﻿BEGIN:VCALENDAR
PRODID:-//146.185.150.6//NONSGML iCalcreator 2.6//
VERSION:2.0
BEGIN:VEVENT
UID:20260425T151821CEST-2670Wu6l2u@146.185.150.6
DTSTAMP:20260425T131821Z
DESCRIPTION:
DTSTART:20150822T163000
DTEND:20150822T181500
LOCATION:
SUMMARY:Raiffeisen Superliga Kosove 2015-16 :PRISHTINA - FERONIKELI
END:VEVENT
BEGIN:VEVENT
UID:20260425T151821CEST-2675cF4iZN@146.185.150.6
DTSTAMP:20260425T131821Z
DESCRIPTION:
DTSTART:20150829T163000
DTEND:20150829T181500
LOCATION:
SUMMARY:Raiffeisen Superliga Kosove 2015-16 :KF ISTOGU - PRISHTINA
END:VEVENT
BEGIN:VEVENT
UID:20260425T151821CEST-2680uMAUbg@146.185.150.6
DTSTAMP:20260425T131821Z
DESCRIPTION:
DTSTART:20150909T163000
DTEND:20150909T181500
LOCATION:
SUMMARY:Raiffeisen Superliga Kosove 2015-16 :PRISHTINA - KF LLAPI
END:VEVENT
BEGIN:VEVENT
UID:20260425T151821CEST-2685LdfolU@146.185.150.6
DTSTAMP:20260425T131821Z
DESCRIPTION:Stadiumi 'Shahin Haxhiislami' - Pejë
DTSTART:20150913T163000
DTEND:20150913T181500
LOCATION:PejÃ«\,
SUMMARY:Raiffeisen Superliga Kosove 2015-16 :BESA - PRISHTINA
END:VEVENT
BEGIN:VEVENT
UID:20260425T151821CEST-2690jzp6DU@146.185.150.6
DTSTAMP:20260425T131821Z
DESCRIPTION:Stadiumi 'Shahin Haxhiislami' - Pejë
DTSTART:20150916T163000
DTEND:20150916T181500
LOCATION:PejÃ«\,
SUMMARY:Raiffeisen Superliga Kosove 2015-16 :PRISHTINA - KOSOVA(V)
END:VEVENT
BEGIN:VEVENT
UID:20260425T151821CEST-2693Z28fpb@146.185.150.6
DTSTAMP:20260425T131821Z
DESCRIPTION:Stadiumi 'Riza Lushta' - Mitrovicë
DTSTART:20140920T163000
DTEND:20140920T181500
LOCATION:\,  Mitrovica
SUMMARY:Raiffeisen Superliga Kosove 2015-16 :TREPCA 89 - PRISHTINA
END:VEVENT
BEGIN:VEVENT
UID:20260425T151821CEST-2696c7KfPe@146.185.150.6
DTSTAMP:20260425T131821Z
DESCRIPTION:Stadiumi 'Riza Lushta' - Mitrovicë
DTSTART:20140927T160000
DTEND:20140927T174500
LOCATION:\,  Mitrovica
SUMMARY:Raiffeisen Superliga Kosove 2015-16 :PRISHTINA - HAJVALIA
END:VEVENT
BEGIN:VEVENT
UID:20260425T151821CEST-2698D5UGWi@146.185.150.6
DTSTAMP:20260425T131821Z
DESCRIPTION:Stadiumi 'Riza Lushta' - Mitrovicë
DTSTART:20150930T150000
DTEND:20150930T164500
LOCATION:\,  Mitrovica
SUMMARY:Raiffeisen Superliga Kosove 2015-16 :PRISHTINA - DRITA
END:VEVENT
BEGIN:VEVENT
UID:20260425T151821CEST-2701zfbZf2@146.185.150.6
DTSTAMP:20260425T131821Z
DESCRIPTION:Stadiumi 'Riza Lushta' - Mitrovicë
DTSTART:20151004T150000
DTEND:20151004T164500
LOCATION:\,  Mitrovica
SUMMARY:Raiffeisen Superliga Kosove 2015-16 :LIRIA - PRISHTINA
END:VEVENT
BEGIN:VEVENT
UID:20260425T151821CEST-2703C4aJrV@146.185.150.6
DTSTAMP:20260425T131821Z
DESCRIPTION:Stadiumi 'Riza Lushta' - Mitrovicë
DTSTART:20151018T150000
DTEND:20151018T164500
LOCATION:\,  Mitrovica
SUMMARY:Raiffeisen Superliga Kosove 2015-16 :PRISHTINA - DRENICA
END:VEVENT
BEGIN:VEVENT
UID:20260425T151821CEST-2705OuWPIz@146.185.150.6
DTSTAMP:20260425T131821Z
DESCRIPTION:Stadiumi 'Riza Lushta' - Mitrovicë
DTSTART:20151025T150000
DTEND:20151025T164500
LOCATION:\,  Mitrovica
SUMMARY:Raiffeisen Superliga Kosove 2015-16 :GJILAN - PRISHTINA
END:VEVENT
BEGIN:VEVENT
UID:20260425T151821CEST-2708ukntSd@146.185.150.6
DTSTAMP:20260425T131821Z
DESCRIPTION:Stadiumi 'Riza Lushta' - Mitrovicë
DTSTART:20151031T140000
DTEND:20151031T154500
LOCATION:\,  Mitrovica
SUMMARY:Raiffeisen Superliga Kosove 2015-16 :FERONIKELI - PRISHTINA
END:VEVENT
BEGIN:VEVENT
UID:20260425T151821CEST-2710GEUzJI@146.185.150.6
DTSTAMP:20260425T131821Z
DESCRIPTION:Stadiumi 'Riza Lushta' - Mitrovicë
DTSTART:20151104T140000
DTEND:20151104T154500
LOCATION:\,  Mitrovica
SUMMARY:Raiffeisen Superliga Kosove 2015-16 :PRISHTINA - KF ISTOGU
END:VEVENT
BEGIN:VEVENT
UID:20260425T151821CEST-2713LSwmWD@146.185.150.6
DTSTAMP:20260425T131821Z
DESCRIPTION:Stadiumi 'Riza Lushta' - Mitrovicë
DTSTART:20151108T140000
DTEND:20151108T154500
LOCATION:\,  Mitrovica
SUMMARY:Raiffeisen Superliga Kosove 2015-16 :KF LLAPI - PRISHTINA
END:VEVENT
BEGIN:VEVENT
UID:20260425T151821CEST-2715986fvh@146.185.150.6
DTSTAMP:20260425T131821Z
DESCRIPTION:Stadiumi 'Riza Lushta' - Mitrovicë
DTSTART:20151118T140000
DTEND:20151118T154500
LOCATION:\,  Mitrovica
SUMMARY:Raiffeisen Superliga Kosove 2015-16 :PRISHTINA - BESA
END:VEVENT
BEGIN:VEVENT
UID:20260425T151821CEST-2718KGJ9Ps@146.185.150.6
DTSTAMP:20260425T131821Z
DESCRIPTION:Stadiumi 'Ferki Aliu' - Vushtri
DTSTART:20151122T140000
DTEND:20151122T154500
LOCATION:Vushtrri\,
SUMMARY:Raiffeisen Superliga Kosove 2015-16 :KOSOVA(V) - PRISHTINA
END:VEVENT
BEGIN:VEVENT
UID:20260425T151821CEST-2720I9vDUx@146.185.150.6
DTSTAMP:20260425T131821Z
DESCRIPTION:Stadiumi 'Ferki Aliu' - Vushtri
DTSTART:20151129T140000
DTEND:20151129T154500
LOCATION:Vushtrri\,
SUMMARY:Raiffeisen Superliga Kosove 2015-16 :PRISHTINA - TREPCA 89
END:VEVENT
BEGIN:VEVENT
UID:20260425T151821CEST-2723h2wMvB@146.185.150.6
DTSTAMP:20260425T131821Z
DESCRIPTION:Stadiumi i Qytetit - Kishnicë
DTSTART:20160228T143000
DTEND:20160228T161500
LOCATION:\,  Kishnica
SUMMARY:Raiffeisen Superliga Kosove 2015-16 :HAJVALIA - PRISHTINA
END:VEVENT
BEGIN:VEVENT
UID:20260425T151821CEST-2725VIabuG@146.185.150.6
DTSTAMP:20260425T131821Z
DESCRIPTION:Stadiumi i Qytetit - Gjilan
DTSTART:20160305T143000
DTEND:20160305T161500
LOCATION: \,
SUMMARY:Raiffeisen Superliga Kosove 2015-16 :DRITA - PRISHTINA
END:VEVENT
BEGIN:VEVENT
UID:20260425T151821CEST-2728UDKsmf@146.185.150.6
DTSTAMP:20260425T131821Z
DESCRIPTION:Stadiumi i Qytetit - Gjilan
DTSTART:20160312T143000
DTEND:20160312T161500
LOCATION: \,
SUMMARY:Raiffeisen Superliga Kosove 2015-16 :PRISHTINA - LIRIA
END:VEVENT
BEGIN:VEVENT
UID:20260425T151821CEST-2731UIx4pw@146.185.150.6
DTSTAMP:20260425T131821Z
DESCRIPTION:Stadiumi 'Bajram Aliu' - Skënderaj
DTSTART:20160319T150000
DTEND:20160319T164500
LOCATION:SkÃ«nderaj\,
SUMMARY:Raiffeisen Superliga Kosove 2015-16 :DRENICA - PRISHTINA
END:VEVENT
BEGIN:VEVENT
UID:20260425T151821CEST-2733DrBFLV@146.185.150.6
DTSTAMP:20260425T131821Z
DESCRIPTION:Stadiumi 'Bajram Aliu' - Skënderaj
DTSTART:20160327T150000
DTEND:20160327T164500
LOCATION:SkÃ«nderaj\,
SUMMARY:Raiffeisen Superliga Kosove 2015-16 :PRISHTINA - GJILAN
END:VEVENT
BEGIN:VEVENT
UID:20260425T151821CEST-2736SUnhLT@146.185.150.6
DTSTAMP:20260425T131821Z
DESCRIPTION:Stadiumi 'Bajram Aliu' - Skënderaj
DTSTART:20160403T143000
DTEND:20160403T161500
LOCATION:SkÃ«nderaj\,
SUMMARY:Raiffeisen Superliga Kosove 2015-16 :GJILAN - PRISHTINA
END:VEVENT
BEGIN:VEVENT
UID:20260425T151821CEST-2739bPSD7W@146.185.150.6
DTSTAMP:20260425T131821Z
DESCRIPTION:Stadiumi 'Bajram Aliu' - Skënderaj
DTSTART:20160406T150000
DTEND:20160406T164500
LOCATION:SkÃ«nderaj\,
SUMMARY:Raiffeisen Superliga Kosove 2015-16 :PRISHTINA - KF LLAPI
END:VEVENT
BEGIN:VEVENT
UID:20260425T151821CEST-2742WHc8Vx@146.185.150.6
DTSTAMP:20260425T131821Z
DESCRIPTION:Stadiumi 'Bajram Aliu' - Skënderaj
DTSTART:20160409T150000
DTEND:20160409T164500
LOCATION:SkÃ«nderaj\,
SUMMARY:Raiffeisen Superliga Kosove 2015-16 :FERONIKELI - PRISHTINA
END:VEVENT
BEGIN:VEVENT
UID:20260425T151821CEST-2744IhatnI@146.185.150.6
DTSTAMP:20260425T131821Z
DESCRIPTION:Stadiumi 'Bajram Aliu' - Skënderaj
DTSTART:20160417T160000
DTEND:20160417T174500
LOCATION:SkÃ«nderaj\,
SUMMARY:Raiffeisen Superliga Kosove 2015-16 :PRISHTINA - HAJVALIA
END:VEVENT
BEGIN:VEVENT
UID:20260425T151821CEST-2746W6asTw@146.185.150.6
DTSTAMP:20260425T131821Z
DESCRIPTION:Stadiumi 'Bajram Aliu' - Skënderaj
DTSTART:20160424T160000
DTEND:20160424T174500
LOCATION:SkÃ«nderaj\,
SUMMARY:Raiffeisen Superliga Kosove 2015-16 :LIRIA - PRISHTINA
END:VEVENT
BEGIN:VEVENT
UID:20260425T151821CEST-2750ez7On2@146.185.150.6
DTSTAMP:20260425T131821Z
DESCRIPTION:Stadiumi 'Bajram Aliu' - Skënderaj
DTSTART:20160501T160000
DTEND:20160501T174500
LOCATION:SkÃ«nderaj\,
SUMMARY:Raiffeisen Superliga Kosove 2015-16 :PRISHTINA - DRITA
END:VEVENT
BEGIN:VEVENT
UID:20260425T151821CEST-2752vJti0b@146.185.150.6
DTSTAMP:20260425T131821Z
DESCRIPTION:Stadiumi 'Bajram Aliu' - Skënderaj
DTSTART:20160504T160000
DTEND:20160504T174500
LOCATION:SkÃ«nderaj\,
SUMMARY:Raiffeisen Superliga Kosove 2015-16 :DRENICA - PRISHTINA
END:VEVENT
BEGIN:VEVENT
UID:20260425T151821CEST-2754luK1XU@146.185.150.6
DTSTAMP:20260425T131821Z
DESCRIPTION:Stadiumi 'Ferki Aliu' - Vushtri
DTSTART:20160508T160000
DTEND:20160508T174500
LOCATION:Vushtrri\,
SUMMARY:Raiffeisen Superliga Kosove 2015-16 :KOSOVA(V) - PRISHTINA
END:VEVENT
BEGIN:VEVENT
UID:20260425T151821CEST-27570o7L4r@146.185.150.6
DTSTAMP:20260425T131821Z
DESCRIPTION:Stadiumi 'Ferki Aliu' - Vushtri
DTSTART:20160511T163000
DTEND:20160511T181500
LOCATION:Vushtrri\,
SUMMARY:Raiffeisen Superliga Kosove 2015-16 :PRISHTINA - KF ISTOGU
END:VEVENT
BEGIN:VEVENT
UID:20260425T151821CEST-2759v1TKFR@146.185.150.6
DTSTAMP:20260425T131821Z
DESCRIPTION:Stadiumi 'Riza Lushta' - Mitrovicë
DTSTART:20160514T163000
DTEND:20160514T181500
LOCATION:\,  Mitrovica
SUMMARY:Raiffeisen Superliga Kosove 2015-16 :TREPCA 89 - PRISHTINA
END:VEVENT
END:VCALENDAR
