﻿BEGIN:VCALENDAR
PRODID:-//146.185.150.6//NONSGML iCalcreator 2.6//
VERSION:2.0
BEGIN:VEVENT
UID:20260423T170521CEST-38969osASZ@146.185.150.6
DTSTAMP:20260423T150521Z
DESCRIPTION:Fusha Sportive Cërrik
DTSTART:20190918T170000
DTEND:20190918T184500
LOCATION:Cërrik\,
SUMMARY:Kupa e Shqiperise 2019-20 :Turbina - Luftetari
END:VEVENT
BEGIN:VEVENT
UID:20260423T170521CEST-3901nWUpal@146.185.150.6
DTSTAMP:20260423T150521Z
DESCRIPTION:Stadiumi
DTSTART:20191002T150000
DTEND:20191002T164500
LOCATION:Gjirokaster\,
SUMMARY:Kupa e Shqiperise 2019-20 :Luftetari - Turbina
END:VEVENT
END:VCALENDAR
