﻿BEGIN:VCALENDAR
PRODID:-//146.185.150.6//NONSGML iCalcreator 2.6//
VERSION:2.0
BEGIN:VEVENT
UID:20260423T152400CEST-8607ClbdJv@146.185.150.6
DTSTAMP:20260423T132400Z
DESCRIPTION:
DTSTART:20190918T170000
DTEND:20190918T184500
LOCATION:
SUMMARY:Kupa e Shqiperise 2019-20 :Pogradeci - Bylis
END:VEVENT
BEGIN:VEVENT
UID:20260423T152400CEST-8610ze6we5@146.185.150.6
DTSTAMP:20260423T132400Z
DESCRIPTION:
DTSTART:20191002T150000
DTEND:20191002T164500
LOCATION:
SUMMARY:Kupa e Shqiperise 2019-20 :Bylis - Pogradeci
END:VEVENT
BEGIN:VEVENT
UID:20260423T152400CEST-8612DRpuz8@146.185.150.6
DTSTAMP:20260423T132400Z
DESCRIPTION:
DTSTART:20200130T150000
DTEND:20200130T164500
LOCATION:
SUMMARY:Kupa e Shqiperise 2019-20 :Bylis - Laci
END:VEVENT
BEGIN:VEVENT
UID:20260423T152400CEST-8615z5C1jm@146.185.150.6
DTSTAMP:20260423T132400Z
DESCRIPTION:Fusha Sportive Laç
DTSTART:20200212T140000
DTEND:20200212T154500
LOCATION:Laç\,
SUMMARY:Kupa e Shqiperise 2019-20 :Laci - Bylis
END:VEVENT
BEGIN:VEVENT
UID:20260423T152400CEST-86180Jk4Lv@146.185.150.6
DTSTAMP:20260423T132400Z
DESCRIPTION:Fusha Sportive Laç
DTSTART:20200611T180000
DTEND:20200611T194500
LOCATION:Laç\,
SUMMARY:Kupa e Shqiperise 2019-20 :Bylis - Skenderbeu
END:VEVENT
BEGIN:VEVENT
UID:20260423T152400CEST-8620EzOgJE@146.185.150.6
DTSTAMP:20260423T132400Z
DESCRIPTION:Stadiumi 'Skënderbeu'
DTSTART:20200624T203000
DTEND:20200624T221500
LOCATION:Korçë\,
SUMMARY:Kupa e Shqiperise 2019-20 :Skenderbeu - Bylis
END:VEVENT
BEGIN:VEVENT
UID:20260423T152400CEST-8623xaXXNn@146.185.150.6
DTSTAMP:20260423T132400Z
DESCRIPTION:Stadiumi 'Skënderbeu'
DTSTART:20200701T140000
DTEND:20200701T154500
LOCATION:Korçë\,
SUMMARY:Kupa e Shqiperise 2019-20 :Bylis - Tirana
END:VEVENT
BEGIN:VEVENT
UID:20260423T152400CEST-8625vpnUNC@146.185.150.6
DTSTAMP:20260423T132400Z
DESCRIPTION:Stadiumi 'Selman Stërmasi'
DTSTART:20200715T140000
DTEND:20200715T154500
LOCATION:Stadiumi Selman Stërmasi\,  Tirana
SUMMARY:Kupa e Shqiperise 2019-20 :Tirana - Bylis
END:VEVENT
END:VCALENDAR
