﻿BEGIN:VCALENDAR
PRODID:-//146.185.150.6//NONSGML iCalcreator 2.6//
VERSION:2.0
BEGIN:VEVENT
UID:20260423T140235CEST-0223vSVDZg@146.185.150.6
DTSTAMP:20260423T120235Z
DESCRIPTION:
DTSTART:20190918T170000
DTEND:20190918T184500
LOCATION:
SUMMARY:Kupa e Shqiperise 2019-20 :Veleciku - Flamurtari
END:VEVENT
BEGIN:VEVENT
UID:20260423T140235CEST-0226KCBZgx@146.185.150.6
DTSTAMP:20260423T120235Z
DESCRIPTION:Stadiumi 'Flamurtari' - Vlorë
DTSTART:20191002T150000
DTEND:20191002T164500
LOCATION:Vlore\,
SUMMARY:Kupa e Shqiperise 2019-20 :Flamurtari - Veleciku
END:VEVENT
BEGIN:VEVENT
UID:20260423T140235CEST-0229VvsDUx@146.185.150.6
DTSTAMP:20260423T120235Z
DESCRIPTION:Stadiumi 'Loro Boriçi' - Shkodër
DTSTART:20200129T150000
DTEND:20200129T164500
LOCATION:E851 Shkoderi\, Albania Stadiumi Loro Boriçi\,  Shkoder
SUMMARY:Kupa e Shqiperise 2019-20 :Vllaznia - Flamurtari
END:VEVENT
BEGIN:VEVENT
UID:20260423T140235CEST-0232stcGu1@146.185.150.6
DTSTAMP:20260423T120235Z
DESCRIPTION:Stadiumi 'Flamurtari' - Vlorë
DTSTART:20200212T140000
DTEND:20200212T154500
LOCATION:Vlore\,
SUMMARY:Kupa e Shqiperise 2019-20 :Flamurtari - Vllaznia
END:VEVENT
END:VCALENDAR
