﻿BEGIN:VCALENDAR
PRODID:-//146.185.150.6//NONSGML iCalcreator 2.6//
VERSION:2.0
BEGIN:VEVENT
UID:20260423T140235CEST-1469ZVrhn3@146.185.150.6
DTSTAMP:20260423T120235Z
DESCRIPTION:Fusha Sportive Peqin
DTSTART:20190918T170000
DTEND:20190918T184500
LOCATION:Peqin\,
SUMMARY:Kupa e Shqiperise 2019-20 :Shkumbini - Kukësi
END:VEVENT
BEGIN:VEVENT
UID:20260423T140235CEST-1473sVJcVn@146.185.150.6
DTSTAMP:20260423T120235Z
DESCRIPTION:Fusha Sportive Peqin
DTSTART:20191002T150000
DTEND:20191002T164500
LOCATION:Peqin\,
SUMMARY:Kupa e Shqiperise 2019-20 :Kukësi - Shkumbini
END:VEVENT
BEGIN:VEVENT
UID:20260423T140235CEST-1476jfvKC9@146.185.150.6
DTSTAMP:20260423T120235Z
DESCRIPTION:Stadiumi 'Loni Papuçiu' - Fier
DTSTART:20200129T150000
DTEND:20200129T164500
LOCATION:Fier\,
SUMMARY:Kupa e Shqiperise 2019-20 :Lushnja - Kukësi
END:VEVENT
BEGIN:VEVENT
UID:20260423T140235CEST-1478zMgF4O@146.185.150.6
DTSTAMP:20260423T120235Z
DESCRIPTION:Stadiumi 'Loni Papuçiu' - Fier
DTSTART:20200212T140000
DTEND:20200212T154500
LOCATION:Fier\,
SUMMARY:Kupa e Shqiperise 2019-20 :Kukësi - Lushnja
END:VEVENT
BEGIN:VEVENT
UID:20260423T140235CEST-14818xWk43@146.185.150.6
DTSTAMP:20260423T120235Z
DESCRIPTION:Stadiumi 'Loni Papuçiu' - Fier
DTSTART:20200611T180000
DTEND:20200611T194500
LOCATION:Fier\,
SUMMARY:Kupa e Shqiperise 2019-20 :Apolonia - Kukësi
END:VEVENT
BEGIN:VEVENT
UID:20260423T140235CEST-14841bU9Nv@146.185.150.6
DTSTAMP:20260423T120235Z
DESCRIPTION:Stadiumi 'Loni Papuçiu' - Fier
DTSTART:20200624T173000
DTEND:20200624T191500
LOCATION:Fier\,
SUMMARY:Kupa e Shqiperise 2019-20 :Kukësi - Apolonia
END:VEVENT
BEGIN:VEVENT
UID:20260423T140235CEST-1487vgLXM7@146.185.150.6
DTSTAMP:20260423T120235Z
DESCRIPTION:Stadiumi 'Loni Papuçiu' - Fier
DTSTART:20200701T140000
DTEND:20200701T154500
LOCATION:Fier\,
SUMMARY:Kupa e Shqiperise 2019-20 :Kukësi - Teuta
END:VEVENT
BEGIN:VEVENT
UID:20260423T140235CEST-14895ZHF7K@146.185.150.6
DTSTAMP:20260423T120235Z
DESCRIPTION:Stadiumi 'Niko Dovana' - Durrës
DTSTART:20200715T140000
DTEND:20200715T154500
LOCATION:DurrÃ«s\,
SUMMARY:Kupa e Shqiperise 2019-20 :Teuta - Kukësi
END:VEVENT
END:VCALENDAR
