﻿BEGIN:VCALENDAR
PRODID:-//146.185.150.6//NONSGML iCalcreator 2.6//
VERSION:2.0
BEGIN:VEVENT
UID:20260423T152358CEST-5203Skn0eJ@146.185.150.6
DTSTAMP:20260423T132358Z
DESCRIPTION:Stadiumi 'Ismail Xhemali' - Pukë
DTSTART:20190918T170000
DTEND:20190918T184500
LOCATION:Pukë\,
SUMMARY:Kupa e Shqiperise 2019-20 :Terbuni - Teuta
END:VEVENT
BEGIN:VEVENT
UID:20260423T152358CEST-52081lW67v@146.185.150.6
DTSTAMP:20260423T132358Z
DESCRIPTION:Stadiumi 'Niko Dovana' - Durrës
DTSTART:20191002T150000
DTEND:20191002T164500
LOCATION:DurrÃ«s\,
SUMMARY:Kupa e Shqiperise 2019-20 :Teuta - Terbuni
END:VEVENT
BEGIN:VEVENT
UID:20260423T152358CEST-5211FUHsAn@146.185.150.6
DTSTAMP:20260423T132358Z
DESCRIPTION:Stadiumi 'Niko Dovana' - Durrës
DTSTART:20200129T150000
DTEND:20200129T164500
LOCATION:DurrÃ«s\,
SUMMARY:Kupa e Shqiperise 2019-20 :Erzeni - Teuta
END:VEVENT
BEGIN:VEVENT
UID:20260423T152358CEST-5214B2terH@146.185.150.6
DTSTAMP:20260423T132358Z
DESCRIPTION:Stadiumi 'Niko Dovana' - Durrës
DTSTART:20200212T140000
DTEND:20200212T154500
LOCATION:DurrÃ«s\,
SUMMARY:Kupa e Shqiperise 2019-20 :Teuta - Erzeni
END:VEVENT
BEGIN:VEVENT
UID:20260423T152358CEST-5216lVNH6a@146.185.150.6
DTSTAMP:20260423T132358Z
DESCRIPTION:Stadiumi 'Loro Boriçi' - Shkodër
DTSTART:20200611T180000
DTEND:20200611T194500
LOCATION:E851 Shkoderi\, Albania Stadiumi Loro Boriçi\,  Shkoder
SUMMARY:Kupa e Shqiperise 2019-20 :Vllaznia - Teuta
END:VEVENT
BEGIN:VEVENT
UID:20260423T152358CEST-5220uI6xTg@146.185.150.6
DTSTAMP:20260423T132358Z
DESCRIPTION:Stadiumi 'Niko Dovana' - Durrës
DTSTART:20200624T173000
DTEND:20200624T191500
LOCATION:DurrÃ«s\,
SUMMARY:Kupa e Shqiperise 2019-20 :Teuta - Vllaznia
END:VEVENT
BEGIN:VEVENT
UID:20260423T152358CEST-52239d4Tu5@146.185.150.6
DTSTAMP:20260423T132358Z
DESCRIPTION:Stadiumi 'Niko Dovana' - Durrës
DTSTART:20200701T140000
DTEND:20200701T154500
LOCATION:DurrÃ«s\,
SUMMARY:Kupa e Shqiperise 2019-20 :Kukësi - Teuta
END:VEVENT
BEGIN:VEVENT
UID:20260423T152358CEST-5226KuHAIC@146.185.150.6
DTSTAMP:20260423T132358Z
DESCRIPTION:Stadiumi 'Niko Dovana' - Durrës
DTSTART:20200715T140000
DTEND:20200715T154500
LOCATION:DurrÃ«s\,
SUMMARY:Kupa e Shqiperise 2019-20 :Teuta - Kukësi
END:VEVENT
BEGIN:VEVENT
UID:20260423T152358CEST-52310vWawJ@146.185.150.6
DTSTAMP:20260423T132358Z
DESCRIPTION:Stadiumi 'Niko Dovana' - Durrës
DTSTART:20200802T210000
DTEND:20200802T224500
LOCATION:DurrÃ«s\,
SUMMARY:Kupa e Shqiperise 2019-20 :Teuta - Tirana
END:VEVENT
END:VCALENDAR
