﻿BEGIN:VCALENDAR
PRODID:-//146.185.150.6//NONSGML iCalcreator 2.6//
VERSION:2.0
BEGIN:VEVENT
UID:20260422T230111CEST-5773UePBeO@146.185.150.6
DTSTAMP:20260422T210111Z
DESCRIPTION:
DTSTART:20160821T160000
DTEND:20160821T174500
LOCATION:
SUMMARY:Vala Superliga Kosove 2016-17 :TREPCA - DRITA
END:VEVENT
BEGIN:VEVENT
UID:20260422T230111CEST-5778pCSvt0@146.185.150.6
DTSTAMP:20260422T210111Z
DESCRIPTION:Stadiumi 'Riza Lushta' - Mitrovicë
DTSTART:20160828T160000
DTEND:20160828T174500
LOCATION:\,  Mitrovica
SUMMARY:Vala Superliga Kosove 2016-17 :TREPCA 89 - DRITA
END:VEVENT
BEGIN:VEVENT
UID:20260422T230111CEST-5782VL18up@146.185.150.6
DTSTAMP:20260422T210111Z
DESCRIPTION:Stadiumi i Qytetit - Gjilan
DTSTART:20160907T160000
DTEND:20160907T174500
LOCATION: \,
SUMMARY:Vala Superliga Kosove 2016-17 :DRITA - KF LLAPI
END:VEVENT
BEGIN:VEVENT
UID:20260422T230111CEST-5785i09Fh1@146.185.150.6
DTSTAMP:20260422T210111Z
DESCRIPTION:Stadiumi i Qytetit - Gjilan
DTSTART:20160911T160000
DTEND:20160911T174500
LOCATION: \,
SUMMARY:Vala Superliga Kosove 2016-17 :LIRIA - DRITA
END:VEVENT
BEGIN:VEVENT
UID:20260422T230111CEST-5787UgNgkE@146.185.150.6
DTSTAMP:20260422T210111Z
DESCRIPTION:Stadiumi i Qytetit - Gjilan
DTSTART:20160918T160000
DTEND:20160918T174500
LOCATION: \,
SUMMARY:Vala Superliga Kosove 2016-17 :DRITA - HAJVALIA
END:VEVENT
BEGIN:VEVENT
UID:20260422T230111CEST-5790L0TfVr@146.185.150.6
DTSTAMP:20260422T210111Z
DESCRIPTION:Stadiumi 'Shahin Haxhiislami' - Pejë
DTSTART:20160925T160000
DTEND:20160925T174500
LOCATION:PejÃ«\,
SUMMARY:Vala Superliga Kosove 2016-17 :BESA - DRITA
END:VEVENT
BEGIN:VEVENT
UID:20260422T230111CEST-57930LoNXW@146.185.150.6
DTSTAMP:20260422T210111Z
DESCRIPTION:Stadiumi i Qytetit - Gjilan
DTSTART:20160930T160000
DTEND:20160930T174500
LOCATION: \,
SUMMARY:Vala Superliga Kosove 2016-17 :DRITA - GJILAN
END:VEVENT
BEGIN:VEVENT
UID:20260422T230111CEST-5798uuAcRc@146.185.150.6
DTSTAMP:20260422T210111Z
DESCRIPTION:Stadiumi i Qytetit - Gjilan
DTSTART:20161011T160000
DTEND:20161011T174500
LOCATION: \,
SUMMARY:Vala Superliga Kosove 2016-17 :FERONIKELI - DRITA
END:VEVENT
BEGIN:VEVENT
UID:20260422T230111CEST-5803dDg0pD@146.185.150.6
DTSTAMP:20260422T210111Z
DESCRIPTION:Stadiumi i Qytetit - Gjilan
DTSTART:20161016T160000
DTEND:20161016T174500
LOCATION: \,
SUMMARY:Vala Superliga Kosove 2016-17 :DRITA - FERIZAJ
END:VEVENT
BEGIN:VEVENT
UID:20260422T230111CEST-58097UdN9A@146.185.150.6
DTSTAMP:20260422T210111Z
DESCRIPTION:Stadiumi 'Bajram Aliu' - Skënderaj
DTSTART:20161022T160000
DTEND:20161022T174500
LOCATION:SkÃ«nderaj\,
SUMMARY:Vala Superliga Kosove 2016-17 :DRENICA - DRITA
END:VEVENT
BEGIN:VEVENT
UID:20260422T230111CEST-5814hThgeL@146.185.150.6
DTSTAMP:20260422T210111Z
DESCRIPTION:Stadiumi i Qytetit - Gjilan
DTSTART:20161030T160000
DTEND:20161030T174500
LOCATION: \,
SUMMARY:Vala Superliga Kosove 2016-17 :DRITA - PRISHTINA
END:VEVENT
BEGIN:VEVENT
UID:20260422T230111CEST-5818wbKSgD@146.185.150.6
DTSTAMP:20260422T210111Z
DESCRIPTION:Stadiumi i Qytetit - Gjilan
DTSTART:20161102T150000
DTEND:20161102T164500
LOCATION: \,
SUMMARY:Vala Superliga Kosove 2016-17 :DRITA - TREPCA
END:VEVENT
BEGIN:VEVENT
UID:20260422T230111CEST-5821kvNzvT@146.185.150.6
DTSTAMP:20260422T210111Z
DESCRIPTION:Stadiumi i Qytetit - Gjilan
DTSTART:20161106T150000
DTEND:20161106T164500
LOCATION: \,
SUMMARY:Vala Superliga Kosove 2016-17 :DRITA - TREPCA 89
END:VEVENT
BEGIN:VEVENT
UID:20260422T230111CEST-5824aJvfVO@146.185.150.6
DTSTAMP:20260422T210111Z
DESCRIPTION:Stadiumi i Qytetit - Gjilan
DTSTART:20161116T150000
DTEND:20161116T164500
LOCATION: \,
SUMMARY:Vala Superliga Kosove 2016-17 :KF LLAPI - DRITA
END:VEVENT
BEGIN:VEVENT
UID:20260422T230111CEST-5826VeTju6@146.185.150.6
DTSTAMP:20260422T210111Z
DESCRIPTION:Stadiumi i Qytetit - Gjilan
DTSTART:20161120T140000
DTEND:20161120T154500
LOCATION: \,
SUMMARY:Vala Superliga Kosove 2016-17 :DRITA - LIRIA
END:VEVENT
BEGIN:VEVENT
UID:20260422T230111CEST-5829WPdvHc@146.185.150.6
DTSTAMP:20260422T210111Z
DESCRIPTION:Stadiumi i Qytetit - Kishnicë
DTSTART:20161126T130000
DTEND:20161126T144500
LOCATION:\,  Kishnica
SUMMARY:Vala Superliga Kosove 2016-17 :HAJVALIA - DRITA
END:VEVENT
BEGIN:VEVENT
UID:20260422T230111CEST-58312DbSEd@146.185.150.6
DTSTAMP:20260422T210111Z
DESCRIPTION:Stadiumi i Qytetit - Gjilan
DTSTART:20161201T140000
DTEND:20161201T154500
LOCATION: \,
SUMMARY:Vala Superliga Kosove 2016-17 :DRITA - BESA
END:VEVENT
BEGIN:VEVENT
UID:20260422T230111CEST-5833xZvvvS@146.185.150.6
DTSTAMP:20260422T210111Z
DESCRIPTION:Stadiumi i Qytetit - Gjilan
DTSTART:20170226T140000
DTEND:20170226T154500
LOCATION: \,
SUMMARY:Vala Superliga Kosove 2016-17 :GJILAN - DRITA
END:VEVENT
BEGIN:VEVENT
UID:20260422T230111CEST-5836IXKwKr@146.185.150.6
DTSTAMP:20260422T210111Z
DESCRIPTION:Stadiumi i Qytetit - Gjilan
DTSTART:20170305T140000
DTEND:20170305T154500
LOCATION: \,
SUMMARY:Vala Superliga Kosove 2016-17 :DRITA - FERONIKELI
END:VEVENT
BEGIN:VEVENT
UID:20260422T230111CEST-5838CVjc0V@146.185.150.6
DTSTAMP:20260422T210111Z
DESCRIPTION:Stadiumi i Qytetit - Gjilan
DTSTART:20170308T140000
DTEND:20170308T154500
LOCATION: \,
SUMMARY:Vala Superliga Kosove 2016-17 :FERIZAJ - DRITA
END:VEVENT
BEGIN:VEVENT
UID:20260422T230111CEST-58414oB9Vo@146.185.150.6
DTSTAMP:20260422T210111Z
DESCRIPTION:Stadiumi i Qytetit - Gjilan
DTSTART:20170312T140000
DTEND:20170312T154500
LOCATION: \,
SUMMARY:Vala Superliga Kosove 2016-17 :DRITA - DRENICA
END:VEVENT
BEGIN:VEVENT
UID:20260422T230111CEST-5844VJj1eV@146.185.150.6
DTSTAMP:20260422T210111Z
DESCRIPTION:Stadiumi i Qytetit - Gjilan
DTSTART:20170318T150000
DTEND:20170318T164500
LOCATION: \,
SUMMARY:Vala Superliga Kosove 2016-17 :PRISHTINA - DRITA
END:VEVENT
BEGIN:VEVENT
UID:20260422T230111CEST-5849IcXA8G@146.185.150.6
DTSTAMP:20260422T210111Z
DESCRIPTION:Stadiumi i Qytetit - Gjilan
DTSTART:20170402T160000
DTEND:20170402T174500
LOCATION: \,
SUMMARY:Vala Superliga Kosove 2016-17 :KF LLAPI - DRITA
END:VEVENT
END:VCALENDAR
