﻿BEGIN:VCALENDAR
PRODID:-//146.185.150.6//NONSGML iCalcreator 2.6//
VERSION:2.0
BEGIN:VEVENT
UID:20260423T151950CEST-6653jtCdUk@146.185.150.6
DTSTAMP:20260423T131950Z
DESCRIPTION:Fusha Sportive Laç
DTSTART:20140212T150000
DTEND:20140212T164500
LOCATION:Laç\,
SUMMARY:Kupa e Shqiperise 2013-14 :Laci - Skenderbeu
END:VEVENT
BEGIN:VEVENT
UID:20260423T151950CEST-6658i5rIcv@146.185.150.6
DTSTAMP:20260423T131950Z
DESCRIPTION:Stadiumi 'Skënderbeu'
DTSTART:20140226T150000
DTEND:20140226T164500
LOCATION:Korçë\,
SUMMARY:Kupa e Shqiperise 2013-14 :Skenderbeu - Laci
END:VEVENT
END:VCALENDAR
