﻿BEGIN:VCALENDAR
PRODID:-//146.185.150.6//NONSGML iCalcreator 2.6//
VERSION:2.0
BEGIN:VEVENT
UID:20260423T121234CEST-967972aV6R@146.185.150.6
DTSTAMP:20260423T101234Z
DESCRIPTION:Stadiumi 'Loro Boriçi' - Shkodër
DTSTART:20140212T150000
DTEND:20140212T164500
LOCATION:E851 Shkoderi\, Albania Stadiumi Loro Boriçi\,  Shkoder
SUMMARY:Kupa e Shqiperise 2013-14 :Vllaznia - Flamurtari
END:VEVENT
BEGIN:VEVENT
UID:20260423T121234CEST-9683EWGMDV@146.185.150.6
DTSTAMP:20260423T101234Z
DESCRIPTION:Stadiumi 'Flamurtari' - Vlorë
DTSTART:20140226T150000
DTEND:20140226T164500
LOCATION:Vlore\,
SUMMARY:Kupa e Shqiperise 2013-14 :Flamurtari - Vllaznia
END:VEVENT
BEGIN:VEVENT
UID:20260423T121234CEST-9685KU0t4t@146.185.150.6
DTSTAMP:20260423T101234Z
DESCRIPTION:Stadiumi 'Flamurtari' - Vlorë
DTSTART:20140326T180000
DTEND:20140326T194500
LOCATION:Vlore\,
SUMMARY:Kupa e Shqiperise 2013-14 :Flamurtari - Skenderbeu
END:VEVENT
BEGIN:VEVENT
UID:20260423T121234CEST-96881VUW91@146.185.150.6
DTSTAMP:20260423T101234Z
DESCRIPTION:Stadiumi 'Skënderbeu'
DTSTART:20140409T190000
DTEND:20140409T204500
LOCATION:Korçë\,
SUMMARY:Kupa e Shqiperise 2013-14 :Skenderbeu - Flamurtari
END:VEVENT
BEGIN:VEVENT
UID:20260423T121234CEST-969125V4CJ@146.185.150.6
DTSTAMP:20260423T101234Z
DESCRIPTION:Stadiumi Kombetar 'Qemal Stafa' - Tirana
DTSTART:20140518T190000
DTEND:20140518T204500
LOCATION:Tiranë\, Shqipëria (Stadiumi Qemal Stafa)\,  Tirana
SUMMARY:Kupa e Shqiperise 2013-14 :Kukësi - Flamurtari
END:VEVENT
END:VCALENDAR
