﻿BEGIN:VCALENDAR
PRODID:-//146.185.150.6//NONSGML iCalcreator 2.6//
VERSION:2.0
BEGIN:VEVENT
UID:20260422T200622CEST-72602tLAju@146.185.150.6
DTSTAMP:20260422T180622Z
DESCRIPTION:Stadiumi i Qytetit - Merdare
DTSTART:20130818T183000
DTEND:20130818T201700
LOCATION:Merdare-PrishtinÃ«\,
SUMMARY:Raiffeisen Superliga Kosove 2013-14 :HYSI - FUSHE KOSOVA
END:VEVENT
BEGIN:VEVENT
UID:20260422T200622CEST-7264s9FSmd@146.185.150.6
DTSTAMP:20260422T180622Z
DESCRIPTION:Stadiumi i Qytetit - Merdare
DTSTART:20130825T180000
DTEND:20130825T194700
LOCATION:Merdare-PrishtinÃ«\,
SUMMARY:Raiffeisen Superliga Kosove 2013-14 :FERIZAJ - HYSI
END:VEVENT
BEGIN:VEVENT
UID:20260422T200622CEST-72661UZIEv@146.185.150.6
DTSTAMP:20260422T180622Z
DESCRIPTION:Stadiumi i Qytetit - Merdare
DTSTART:20130901T180000
DTEND:20130901T194700
LOCATION:Merdare-PrishtinÃ«\,
SUMMARY:Raiffeisen Superliga Kosove 2013-14 :HYSI - FERONIKELI
END:VEVENT
BEGIN:VEVENT
UID:20260422T200622CEST-72698R1Dtu@146.185.150.6
DTSTAMP:20260422T180622Z
DESCRIPTION:Stadiumi i Qytetit - Prishtina
DTSTART:20130907T170000
DTEND:20130907T184700
LOCATION:PrishtinÃ«\,
SUMMARY:Raiffeisen Superliga Kosove 2013-14 :PRISHTINA - HYSI
END:VEVENT
BEGIN:VEVENT
UID:20260422T200622CEST-72720goHuJ@146.185.150.6
DTSTAMP:20260422T180622Z
DESCRIPTION:Stadiumi i Qytetit - Merdare
DTSTART:20130913T170000
DTEND:20130913T184700
LOCATION:Merdare-PrishtinÃ«\,
SUMMARY:Raiffeisen Superliga Kosove 2013-14 :HYSI - TREPCA 89
END:VEVENT
BEGIN:VEVENT
UID:20260422T200622CEST-7274SNn4Lf@146.185.150.6
DTSTAMP:20260422T180622Z
DESCRIPTION:Stadiumi i Qytetit - Merdare
DTSTART:20130921T170000
DTEND:20130921T184700
LOCATION:Merdare-PrishtinÃ«\,
SUMMARY:Raiffeisen Superliga Kosove 2013-14 :HYSI - DRITA
END:VEVENT
BEGIN:VEVENT
UID:20260422T200622CEST-7277lCiN77@146.185.150.6
DTSTAMP:20260422T180622Z
DESCRIPTION:Stadiumi i Qytetit - Kishnicë
DTSTART:20130926T170000
DTEND:20130926T184700
LOCATION:\,  Kishnica
SUMMARY:Raiffeisen Superliga Kosove 2013-14 :HAJVALIA - HYSI
END:VEVENT
BEGIN:VEVENT
UID:20260422T200622CEST-7279lDEWW2@146.185.150.6
DTSTAMP:20260422T180622Z
DESCRIPTION:Stadiumi i Qytetit - Kishnicë
DTSTART:20130929T170000
DTEND:20130929T184700
LOCATION:\,  Kishnica
SUMMARY:Raiffeisen Superliga Kosove 2013-14 :HYSI - TREPCA
END:VEVENT
BEGIN:VEVENT
UID:20260422T200622CEST-7282kDkwgu@146.185.150.6
DTSTAMP:20260422T180622Z
DESCRIPTION:Stadiumi 'Ferki Aliu' - Vushtri
DTSTART:20131006T160000
DTEND:20131006T174700
LOCATION:Vushtrri\,
SUMMARY:Raiffeisen Superliga Kosove 2013-14 :LLAMKOS KOSOVA FK - HYSI
END:VEVENT
BEGIN:VEVENT
UID:20260422T200622CEST-7393IDSvj6@146.185.150.6
DTSTAMP:20260422T180622Z
DESCRIPTION:Stadiumi 'Ferki Aliu' - Vushtri
DTSTART:20131013T160200
DTEND:20131013T174900
LOCATION:Vushtrri\,
SUMMARY:Raiffeisen Superliga Kosove 2013-14 :HYSI - DRENICA
END:VEVENT
BEGIN:VEVENT
UID:20260422T200622CEST-73969wfUbG@146.185.150.6
DTSTAMP:20260422T180622Z
DESCRIPTION:Stadiumi 'Shahin Haxhiislami' - Pejë
DTSTART:20131020T160000
DTEND:20131020T174700
LOCATION:PejÃ«\,
SUMMARY:Raiffeisen Superliga Kosove 2013-14 :BESA - HYSI
END:VEVENT
BEGIN:VEVENT
UID:20260422T200622CEST-73991VgmKK@146.185.150.6
DTSTAMP:20260422T180622Z
DESCRIPTION:Stadiumi 'Shahin Haxhiislami' - Pejë
DTSTART:20131026T150000
DTEND:20131026T164700
LOCATION:PejÃ«\,
SUMMARY:Raiffeisen Superliga Kosove 2013-14 :FUSHE KOSOVA - HYSI
END:VEVENT
BEGIN:VEVENT
UID:20260422T200622CEST-7401uvTeus@146.185.150.6
DTSTAMP:20260422T180622Z
DESCRIPTION:Stadiumi 'Shahin Haxhiislami' - Pejë
DTSTART:20131029T150000
DTEND:20131029T164700
LOCATION:PejÃ«\,
SUMMARY:Raiffeisen Superliga Kosove 2013-14 :HYSI - FERIZAJ
END:VEVENT
BEGIN:VEVENT
UID:20260422T200622CEST-7405SLLAUF@146.185.150.6
DTSTAMP:20260422T180622Z
DESCRIPTION:Stadiumi 'Shahin Haxhiislami' - Pejë
DTSTART:20131106T150000
DTEND:20131106T164700
LOCATION:PejÃ«\,
SUMMARY:Raiffeisen Superliga Kosove 2013-14 :FERONIKELI - HYSI
END:VEVENT
BEGIN:VEVENT
UID:20260422T200622CEST-7407lgZ541@146.185.150.6
DTSTAMP:20260422T180622Z
DESCRIPTION:Stadiumi i Qytetit - Merdare
DTSTART:20131110T150500
DTEND:20131110T165200
LOCATION:Merdare-PrishtinÃ«\,
SUMMARY:Raiffeisen Superliga Kosove 2013-14 :HYSI - PRISHTINA
END:VEVENT
BEGIN:VEVENT
UID:20260422T200622CEST-7410TIC90B@146.185.150.6
DTSTAMP:20260422T180622Z
DESCRIPTION:Stadiumi 'Riza Lushta' - Mitrovicë
DTSTART:20131116T140000
DTEND:20131116T154700
LOCATION:\,  Mitrovica
SUMMARY:Raiffeisen Superliga Kosove 2013-14 :TREPCA 89 - HYSI
END:VEVENT
BEGIN:VEVENT
UID:20260422T200622CEST-7412wVFBhO@146.185.150.6
DTSTAMP:20260422T180622Z
DESCRIPTION:Stadiumi i Qytetit - Gjilan
DTSTART:20131124T140400
DTEND:20131124T155100
LOCATION: \,
SUMMARY:Raiffeisen Superliga Kosove 2013-14 :DRITA - HYSI
END:VEVENT
BEGIN:VEVENT
UID:20260422T200622CEST-7415vKtEpv@146.185.150.6
DTSTAMP:20260422T180622Z
DESCRIPTION:Stadiumi i Qytetit - Gjilan
DTSTART:20140309T170000
DTEND:20140309T184700
LOCATION: \,
SUMMARY:Raiffeisen Superliga Kosove 2013-14 :HYSI - HAJVALIA
END:VEVENT
BEGIN:VEVENT
UID:20260422T200622CEST-7417vMuZoM@146.185.150.6
DTSTAMP:20260422T180622Z
DESCRIPTION:Stadiumi i Qytetit - Gjilan
DTSTART:20140315T170000
DTEND:20140315T184700
LOCATION: \,
SUMMARY:Raiffeisen Superliga Kosove 2013-14 :TREPCA - HYSI
END:VEVENT
BEGIN:VEVENT
UID:20260422T200622CEST-7420xAJgJC@146.185.150.6
DTSTAMP:20260422T180622Z
DESCRIPTION:Stadiumi i Qytetit - Gjilan
DTSTART:20140323T170000
DTEND:20140323T184700
LOCATION: \,
SUMMARY:Raiffeisen Superliga Kosove 2013-14 :HYSI - LLAMKOS KOSOVA FK
END:VEVENT
BEGIN:VEVENT
UID:20260422T200622CEST-7422Zma9LO@146.185.150.6
DTSTAMP:20260422T180622Z
DESCRIPTION:Stadiumi 'Bajram Aliu' - Skënderaj
DTSTART:20140326T170000
DTEND:20140326T184700
LOCATION:SkÃ«nderaj\,
SUMMARY:Raiffeisen Superliga Kosove 2013-14 :DRENICA - HYSI
END:VEVENT
BEGIN:VEVENT
UID:20260422T200622CEST-7425OehuBK@146.185.150.6
DTSTAMP:20260422T180622Z
DESCRIPTION:Stadiumi 'Bajram Aliu' - Skënderaj
DTSTART:20140330T170000
DTEND:20140330T184700
LOCATION:SkÃ«nderaj\,
SUMMARY:Raiffeisen Superliga Kosove 2013-14 :HYSI - BESA
END:VEVENT
BEGIN:VEVENT
UID:20260422T200622CEST-7428wM7zpv@146.185.150.6
DTSTAMP:20260422T180622Z
DESCRIPTION:Stadiumi 'Ferki Aliu' - Vushtri
DTSTART:20140406T170000
DTEND:20140406T184700
LOCATION:Vushtrri\,
SUMMARY:Raiffeisen Superliga Kosove 2013-14 :LLAMKOS KOSOVA FK - HYSI
END:VEVENT
BEGIN:VEVENT
UID:20260422T200622CEST-7430ig25Gp@146.185.150.6
DTSTAMP:20260422T180622Z
DESCRIPTION:Stadiumi i Qytetit - Gjilan
DTSTART:20140412T170000
DTEND:20140412T184700
LOCATION: \,
SUMMARY:Raiffeisen Superliga Kosove 2013-14 :DRITA - HYSI
END:VEVENT
BEGIN:VEVENT
UID:20260422T200622CEST-7433uviuOv@146.185.150.6
DTSTAMP:20260422T180622Z
DESCRIPTION:Stadiumi i Qytetit - Gjilan
DTSTART:20140420T160000
DTEND:20140420T174700
LOCATION: \,
SUMMARY:Raiffeisen Superliga Kosove 2013-14 :HYSI - HAJVALIA
END:VEVENT
BEGIN:VEVENT
UID:20260422T200622CEST-7435orWVlu@146.185.150.6
DTSTAMP:20260422T180622Z
DESCRIPTION:Stadiumi 'Shahin Haxhiislami' - Pejë
DTSTART:20140423T170000
DTEND:20140423T184700
LOCATION:PejÃ«\,
SUMMARY:Raiffeisen Superliga Kosove 2013-14 :BESA - HYSI
END:VEVENT
BEGIN:VEVENT
UID:20260422T200622CEST-7438oaSZb2@146.185.150.6
DTSTAMP:20260422T180622Z
DESCRIPTION:Stadiumi 'Riza Lushta' - Mitrovicë
DTSTART:20140426T160000
DTEND:20140426T174700
LOCATION:\,  Mitrovica
SUMMARY:Raiffeisen Superliga Kosove 2013-14 :TREPCA 89 - HYSI
END:VEVENT
BEGIN:VEVENT
UID:20260422T200622CEST-7440fpW7AH@146.185.150.6
DTSTAMP:20260422T180622Z
DESCRIPTION:Stadiumi 'Riza Lushta' - Mitrovicë
DTSTART:20140504T160000
DTEND:20140504T174700
LOCATION:\,  Mitrovica
SUMMARY:Raiffeisen Superliga Kosove 2013-14 :FERIZAJ - HYSI
END:VEVENT
END:VCALENDAR
