﻿BEGIN:VCALENDAR
PRODID:-//146.185.150.6//NONSGML iCalcreator 2.6//
VERSION:2.0
BEGIN:VEVENT
UID:20260423T151947CEST-5000kfEfvj@146.185.150.6
DTSTAMP:20260423T131947Z
DESCRIPTION:Stadiumi Kombetar 'Qemal Stafa' - Tirana
DTSTART:20120705T200000
DTEND:20120705T214500
LOCATION:Tiranë\, Shqipëria (Stadiumi Qemal Stafa)\,  Tirana
SUMMARY:EUROPA League 2012-13 :Tirana - CS Grevenmacher
END:VEVENT
END:VCALENDAR
