﻿BEGIN:VCALENDAR
PRODID:-//146.185.150.6//NONSGML iCalcreator 2.6//
VERSION:2.0
BEGIN:VEVENT
UID:20260423T151902CEST-6044ho9Gk5@146.185.150.6
DTSTAMP:20260423T131902Z
DESCRIPTION:
DTSTART:20110921T170000
DTEND:20110921T184500
LOCATION:
SUMMARY:Kupa e Shqiperise 2011-12 :Ada - Pogradeci
END:VEVENT
BEGIN:VEVENT
UID:20260423T151902CEST-6046ifvGcj@146.185.150.6
DTSTAMP:20260423T131902Z
DESCRIPTION:
DTSTART:20110928T163000
DTEND:20110928T181500
LOCATION:
SUMMARY:Kupa e Shqiperise 2011-12 :Pogradeci - Ada
END:VEVENT
END:VCALENDAR
