﻿BEGIN:VCALENDAR
PRODID:-//146.185.150.6//NONSGML iCalcreator 2.6//
VERSION:2.0
BEGIN:VEVENT
UID:20260422T213755CEST-2691tck65F@146.185.150.6
DTSTAMP:20260422T193755Z
DESCRIPTION:Stadiumi i Qytetit - Gjilan
DTSTART:20110821T180000
DTEND:20110821T195500
LOCATION: \,
SUMMARY:Raiffeisen Superliga Kosove 2011-12 :DRITA - LIRIA
END:VEVENT
BEGIN:VEVENT
UID:20260422T213755CEST-2694kG18Le@146.185.150.6
DTSTAMP:20260422T193755Z
DESCRIPTION:Stadiumi 'Përparim Thaçi' - Prizren
DTSTART:20110827T180000
DTEND:20110827T195500
LOCATION:Prizren\,
SUMMARY:Raiffeisen Superliga Kosove 2011-12 :LIRIA - VELLAZNIMI
END:VEVENT
BEGIN:VEVENT
UID:20260422T213755CEST-2697oojHxR@146.185.150.6
DTSTAMP:20260422T193755Z
DESCRIPTION:Stadiumi i Qytetit - Merdare
DTSTART:20110907T170000
DTEND:20110907T185500
LOCATION:Merdare-PrishtinÃ«\,
SUMMARY:Raiffeisen Superliga Kosove 2011-12 :HYSI - LIRIA
END:VEVENT
BEGIN:VEVENT
UID:20260422T213755CEST-2699z7v5GU@146.185.150.6
DTSTAMP:20260422T193755Z
DESCRIPTION:Stadiumi 'Përparim Thaçi' - Prizren
DTSTART:20110910T170000
DTEND:20110910T185500
LOCATION:Prizren\,
SUMMARY:Raiffeisen Superliga Kosove 2011-12 :LIRIA - LEPENCI
END:VEVENT
BEGIN:VEVENT
UID:20260422T213755CEST-27029jdNJ0@146.185.150.6
DTSTAMP:20260422T193755Z
DESCRIPTION:Stadiumi 'Adem Jashari' - Mitrovicë
DTSTART:20110918T170000
DTEND:20110918T185500
LOCATION:MitrovicÃ«\,
SUMMARY:Raiffeisen Superliga Kosove 2011-12 :TREPCA - LIRIA
END:VEVENT
BEGIN:VEVENT
UID:20260422T213755CEST-2705cwhPIC@146.185.150.6
DTSTAMP:20260422T193755Z
DESCRIPTION:Stadiumi 'Përparim Thaçi' - Prizren
DTSTART:20110924T170000
DTEND:20110924T185500
LOCATION:Prizren\,
SUMMARY:Raiffeisen Superliga Kosove 2011-12 :LIRIA - BESA
END:VEVENT
BEGIN:VEVENT
UID:20260422T213755CEST-2707IGtzVP@146.185.150.6
DTSTAMP:20260422T193755Z
DESCRIPTION:Stadiumi i Qytetit - Gjilan
DTSTART:20110928T170000
DTEND:20110928T185500
LOCATION: \,
SUMMARY:Raiffeisen Superliga Kosove 2011-12 :GJILAN - LIRIA
END:VEVENT
BEGIN:VEVENT
UID:20260422T213755CEST-27114iSbVT@146.185.150.6
DTSTAMP:20260422T193755Z
DESCRIPTION:Stadiumi i Qytetit - Gjilan
DTSTART:20111001T170000
DTEND:20111001T185500
LOCATION: \,
SUMMARY:Raiffeisen Superliga Kosove 2011-12 :LIRIA - KEK-U
END:VEVENT
BEGIN:VEVENT
UID:20260422T213755CEST-2714lVz074@146.185.150.6
DTSTAMP:20260422T193755Z
DESCRIPTION:Stadiumi i Qytetit - Prishtina
DTSTART:20111011T160000
DTEND:20111011T175500
LOCATION:PrishtinÃ«\,
SUMMARY:Raiffeisen Superliga Kosove 2011-12 :PRISHTINA - LIRIA
END:VEVENT
BEGIN:VEVENT
UID:20260422T213755CEST-27170jibvf@146.185.150.6
DTSTAMP:20260422T193755Z
DESCRIPTION:Stadiumi 'Riza Lushta' - Mitrovicë
DTSTART:20111016T161000
DTEND:20111016T180500
LOCATION:\,  Mitrovica
SUMMARY:Raiffeisen Superliga Kosove 2011-12 :TREPCA 89 - LIRIA
END:VEVENT
BEGIN:VEVENT
UID:20260422T213755CEST-2719pf1g3D@146.185.150.6
DTSTAMP:20260422T193755Z
DESCRIPTION:Stadiumi 'Përparim Thaçi' - Prizren
DTSTART:20111022T150000
DTEND:20111022T165500
LOCATION:Prizren\,
SUMMARY:Raiffeisen Superliga Kosove 2011-12 :LIRIA - DRENICA
END:VEVENT
BEGIN:VEVENT
UID:20260422T213755CEST-2724iPIUVO@146.185.150.6
DTSTAMP:20260422T193755Z
DESCRIPTION:Stadiumi 'Përparim Thaçi' - Prizren
DTSTART:20111029T141500
DTEND:20111029T161000
LOCATION:Prizren\,
SUMMARY:Raiffeisen Superliga Kosove 2011-12 :LIRIA - DRITA
END:VEVENT
BEGIN:VEVENT
UID:20260422T213755CEST-27293tLjux@146.185.150.6
DTSTAMP:20260422T193755Z
DESCRIPTION:Stadiumi i Qytetit - Gjakovë
DTSTART:20111105T140000
DTEND:20111105T155500
LOCATION:Gjakovë\,
SUMMARY:Raiffeisen Superliga Kosove 2011-12 :VELLAZNIMI - LIRIA
END:VEVENT
BEGIN:VEVENT
UID:20260422T213755CEST-2733SHKZV1@146.185.150.6
DTSTAMP:20260422T193755Z
DESCRIPTION:Stadiumi 'Përparim Thaçi' - Prizren
DTSTART:20111110T140000
DTEND:20111110T155500
LOCATION:Prizren\,
SUMMARY:Raiffeisen Superliga Kosove 2011-12 :LIRIA - HYSI
END:VEVENT
BEGIN:VEVENT
UID:20260422T213755CEST-2736e0UL7d@146.185.150.6
DTSTAMP:20260422T193755Z
DESCRIPTION:Stadiumi 'Besnik Begunca' - Kaçanik
DTSTART:20111113T140800
DTEND:20111113T160300
LOCATION:\,
SUMMARY:Raiffeisen Superliga Kosove 2011-12 :LEPENCI - LIRIA
END:VEVENT
BEGIN:VEVENT
UID:20260422T213755CEST-2738HAuhKp@146.185.150.6
DTSTAMP:20260422T193755Z
DESCRIPTION:Stadiumi 'Përparim Thaçi' - Prizren
DTSTART:20111119T140000
DTEND:20111119T155500
LOCATION:Prizren\,
SUMMARY:Raiffeisen Superliga Kosove 2011-12 :LIRIA - TREPCA
END:VEVENT
BEGIN:VEVENT
UID:20260422T213755CEST-2741odb7xX@146.185.150.6
DTSTAMP:20260422T193755Z
DESCRIPTION:Stadiumi 'Shahin Haxhiislami' - Pejë
DTSTART:20111123T140000
DTEND:20111123T155500
LOCATION:PejÃ«\,
SUMMARY:Raiffeisen Superliga Kosove 2011-12 :BESA - LIRIA
END:VEVENT
BEGIN:VEVENT
UID:20260422T213755CEST-27538SLZoU@146.185.150.6
DTSTAMP:20260422T193755Z
DESCRIPTION:Stadiumi 'Shahin Haxhiislami' - Pejë
DTSTART:20120310T150000
DTEND:20120310T165500
LOCATION:PejÃ«\,
SUMMARY:Raiffeisen Superliga Kosove 2011-12 :LIRIA - GJILAN
END:VEVENT
BEGIN:VEVENT
UID:20260422T213755CEST-27582UdHv3@146.185.150.6
DTSTAMP:20260422T193755Z
DESCRIPTION:Stadiumi 'Agron Rama' - Kastriot
DTSTART:20120317T163000
DTEND:20120317T182500
LOCATION:Obiliq\,
SUMMARY:Raiffeisen Superliga Kosove 2011-12 :KEK-U - LIRIA
END:VEVENT
BEGIN:VEVENT
UID:20260422T213755CEST-2760fJUhND@146.185.150.6
DTSTAMP:20260422T193755Z
DESCRIPTION:Stadiumi 'Agron Rama' - Kastriot
DTSTART:20120324T163000
DTEND:20120324T182500
LOCATION:Obiliq\,
SUMMARY:Raiffeisen Superliga Kosove 2011-12 :LIRIA - PRISHTINA
END:VEVENT
BEGIN:VEVENT
UID:20260422T213755CEST-2764jK63pP@146.185.150.6
DTSTAMP:20260422T193755Z
DESCRIPTION:Stadiumi 'Agron Rama' - Kastriot
DTSTART:20120331T163000
DTEND:20120331T182500
LOCATION:Obiliq\,
SUMMARY:Raiffeisen Superliga Kosove 2011-12 :LIRIA - TREPCA 89
END:VEVENT
BEGIN:VEVENT
UID:20260422T213755CEST-27677CTdWP@146.185.150.6
DTSTAMP:20260422T193755Z
DESCRIPTION:Stadiumi 'Bajram Aliu' - Skënderaj
DTSTART:20120404T163000
DTEND:20120404T182500
LOCATION:SkÃ«nderaj\,
SUMMARY:Raiffeisen Superliga Kosove 2011-12 :DRENICA - LIRIA
END:VEVENT
BEGIN:VEVENT
UID:20260422T213755CEST-277000MFzz@146.185.150.6
DTSTAMP:20260422T193755Z
DESCRIPTION:Stadiumi i Qytetit - Gjakovë
DTSTART:20120407T163000
DTEND:20120407T182500
LOCATION:Gjakovë\,
SUMMARY:Raiffeisen Superliga Kosove 2011-12 :VELLAZNIMI - LIRIA
END:VEVENT
BEGIN:VEVENT
UID:20260422T213755CEST-2773cFcip1@146.185.150.6
DTSTAMP:20260422T193755Z
DESCRIPTION:Stadiumi i Qytetit - Gjakovë
DTSTART:20120414T160000
DTEND:20120414T175500
LOCATION:Gjakovë\,
SUMMARY:Raiffeisen Superliga Kosove 2011-12 :LIRIA - PRISHTINA
END:VEVENT
BEGIN:VEVENT
UID:20260422T213755CEST-2776bbVjED@146.185.150.6
DTSTAMP:20260422T193755Z
DESCRIPTION:Stadiumi 'Bajram Aliu' - Skënderaj
DTSTART:20120421T160000
DTEND:20120421T175500
LOCATION:SkÃ«nderaj\,
SUMMARY:Raiffeisen Superliga Kosove 2011-12 :DRENICA - LIRIA
END:VEVENT
BEGIN:VEVENT
UID:20260422T213755CEST-2778dPGCsJ@146.185.150.6
DTSTAMP:20260422T193755Z
DESCRIPTION:Stadiumi 'Adem Jashari' - Mitrovicë
DTSTART:20120429T160000
DTEND:20120429T175500
LOCATION:MitrovicÃ«\,
SUMMARY:Raiffeisen Superliga Kosove 2011-12 :TREPCA - LIRIA
END:VEVENT
BEGIN:VEVENT
UID:20260422T213755CEST-2781paBB1V@146.185.150.6
DTSTAMP:20260422T193755Z
DESCRIPTION:Stadiumi 'Adem Jashari' - Mitrovicë
DTSTART:20120505T170000
DTEND:20120505T185500
LOCATION:MitrovicÃ«\,
SUMMARY:Raiffeisen Superliga Kosove 2011-12 :LIRIA - LEPENCI
END:VEVENT
BEGIN:VEVENT
UID:20260422T213755CEST-2784eUc71I@146.185.150.6
DTSTAMP:20260422T193755Z
DESCRIPTION:Stadiumi 'Agron Rama' - Kastriot
DTSTART:20120509T170000
DTEND:20120509T185500
LOCATION:Obiliq\,
SUMMARY:Raiffeisen Superliga Kosove 2011-12 :KEK-U - LIRIA
END:VEVENT
BEGIN:VEVENT
UID:20260422T213755CEST-2786dcwMJv@146.185.150.6
DTSTAMP:20260422T193755Z
DESCRIPTION:Stadiumi 'Agron Rama' - Kastriot
DTSTART:20120512T170000
DTEND:20120512T185500
LOCATION:Obiliq\,
SUMMARY:Raiffeisen Superliga Kosove 2011-12 :LIRIA - GJILAN
END:VEVENT
BEGIN:VEVENT
UID:20260422T213755CEST-27899XfoZK@146.185.150.6
DTSTAMP:20260422T193755Z
DESCRIPTION:Stadiumi 'Agron Rama' - Kastriot
DTSTART:20120513T170000
DTEND:20120513T185500
LOCATION:Obiliq\,
SUMMARY:Raiffeisen Superliga Kosove 2011-12 :LIRIA - GJILAN
END:VEVENT
BEGIN:VEVENT
UID:20260422T213755CEST-2792PIiFWn@146.185.150.6
DTSTAMP:20260422T193755Z
DESCRIPTION:Stadiumi 'Shahin Haxhiislami' - Pejë
DTSTART:20120520T180000
DTEND:20120520T195500
LOCATION:PejÃ«\,
SUMMARY:Raiffeisen Superliga Kosove 2011-12 :BESA - LIRIA
END:VEVENT
BEGIN:VEVENT
UID:20260422T213755CEST-2795JOPik3@146.185.150.6
DTSTAMP:20260422T193755Z
DESCRIPTION:Stadiumi 'Shahin Haxhiislami' - Pejë
DTSTART:20120527T180000
DTEND:20120527T195500
LOCATION:PejÃ«\,
SUMMARY:Raiffeisen Superliga Kosove 2011-12 :LIRIA - HYSI
END:VEVENT
BEGIN:VEVENT
UID:20260422T213755CEST-2798mVvaDe@146.185.150.6
DTSTAMP:20260422T193755Z
DESCRIPTION:Stadiumi i Qytetit - Gjilan
DTSTART:20120530T180000
DTEND:20120530T195500
LOCATION: \,
SUMMARY:Raiffeisen Superliga Kosove 2011-12 :DRITA - LIRIA
END:VEVENT
BEGIN:VEVENT
UID:20260422T213755CEST-2800c16sgE@146.185.150.6
DTSTAMP:20260422T193755Z
DESCRIPTION:Stadiumi i Qytetit - Gjilan
DTSTART:20120603T180000
DTEND:20120603T195500
LOCATION: \,
SUMMARY:Raiffeisen Superliga Kosove 2011-12 :LIRIA - TREPCA 89
END:VEVENT
END:VCALENDAR
