﻿BEGIN:VCALENDAR
PRODID:-//146.185.150.6//NONSGML iCalcreator 2.6//
VERSION:2.0
BEGIN:VEVENT
UID:20260423T151901CEST-5969pU0nr2@146.185.150.6
DTSTAMP:20260423T131901Z
DESCRIPTION:Stadiumi 'Besa' - Kavaja
DTSTART:20100323T150000
DTEND:20100323T164500
LOCATION:Kavaje\,
SUMMARY:Kupa e Shqiperise 2009-10 :Besa - Shkumbini
END:VEVENT
BEGIN:VEVENT
UID:20260423T151901CEST-5972OlCW2s@146.185.150.6
DTSTAMP:20260423T131901Z
DESCRIPTION:Fusha Sportive Peqin
DTSTART:20100407T160000
DTEND:20100407T174500
LOCATION:Peqin\,
SUMMARY:Kupa e Shqiperise 2009-10 :Shkumbini - Besa
END:VEVENT
BEGIN:VEVENT
UID:20260423T151901CEST-59755dRJkO@146.185.150.6
DTSTAMP:20260423T131901Z
DESCRIPTION:Stadiumi Kombetar 'Qemal Stafa' - Tirana
DTSTART:20100509T232700
DTEND:20100510T011200
LOCATION:Tiranë\, Shqipëria (Stadiumi Qemal Stafa)\,  Tirana
SUMMARY:Kupa e Shqiperise 2009-10 :Vllaznia - Besa
END:VEVENT
END:VCALENDAR
