﻿BEGIN:VCALENDAR
PRODID:-//146.185.150.6//NONSGML iCalcreator 2.6//
VERSION:2.0
BEGIN:VEVENT
UID:20260423T151859CEST-8698iX7uoh@146.185.150.6
DTSTAMP:20260423T131859Z
DESCRIPTION:Stadiumi 'Niko Dovana' - Durrës
DTSTART:20100816T213000
DTEND:20100816T231500
LOCATION:DurrÃ«s\,
SUMMARY:Superkupa 2010 :Dinamo - Besa
END:VEVENT
END:VCALENDAR
