﻿BEGIN:VCALENDAR
PRODID:-//146.185.150.6//NONSGML iCalcreator 2.6//
VERSION:2.0
BEGIN:VEVENT
UID:20260423T153746CEST-3257EvXe1t@146.185.150.6
DTSTAMP:20260423T133746Z
DESCRIPTION:Stadiumi Kombetar 'Qemal Stafa' - Tirana
DTSTART:20100701T183000
DTEND:20100701T201500
LOCATION:Tiranë\, Shqipëria (Stadiumi Qemal Stafa)\,  Tirana
SUMMARY:EUROPA League 2010-11 :Tirana - Zalaegerszeg ZTE
END:VEVENT
BEGIN:VEVENT
UID:20260423T153746CEST-3260gWdRS3@146.185.150.6
DTSTAMP:20260423T133746Z
DESCRIPTION:Sómógy Bacso
DTSTART:20100708T200000
DTEND:20100708T214500
LOCATION:\,
SUMMARY:EUROPA League 2010-11 :Zalaegerszeg ZTE - Tirana
END:VEVENT
BEGIN:VEVENT
UID:20260423T153746CEST-3262l7rEL1@146.185.150.6
DTSTAMP:20260423T133746Z
DESCRIPTION:De Galgenwaard
DTSTART:20100715T210000
DTEND:20100715T224500
LOCATION:\,
SUMMARY:EUROPA League 2010-11 :Football Club Utrecht - Tirana
END:VEVENT
BEGIN:VEVENT
UID:20260423T153746CEST-32657BAcGM@146.185.150.6
DTSTAMP:20260423T133746Z
DESCRIPTION:Stadiumi Kombetar 'Qemal Stafa' - Tirana
DTSTART:20100722T203000
DTEND:20100722T221500
LOCATION:Tiranë\, Shqipëria (Stadiumi Qemal Stafa)\,  Tirana
SUMMARY:EUROPA League 2010-11 :Tirana - Football Club Utrecht
END:VEVENT
END:VCALENDAR
