﻿BEGIN:VCALENDAR
PRODID:-//146.185.150.6//NONSGML iCalcreator 2.6//
VERSION:2.0
BEGIN:VEVENT
UID:20260423T164337CEST-1389n4XhzI@146.185.150.6
DTSTAMP:20260423T144337Z
DESCRIPTION:Fusha Sportive Memaliaj
DTSTART:20100921T153000
DTEND:20100921T171500
LOCATION:Memaliaj\,
SUMMARY:Kupa e Shqiperise 2010-11 :Memaliaj - Himara
END:VEVENT
BEGIN:VEVENT
UID:20260423T164337CEST-1394ZSPSdM@146.185.150.6
DTSTAMP:20260423T144337Z
DESCRIPTION:Fusha Sportive Memaliaj
DTSTART:20100928T163000
DTEND:20100928T181500
LOCATION:Memaliaj\,
SUMMARY:Kupa e Shqiperise 2010-11 :Memaliaj - Butrinti
END:VEVENT
BEGIN:VEVENT
UID:20260423T164337CEST-1399zeG1v0@146.185.150.6
DTSTAMP:20260423T144337Z
DESCRIPTION:Fusha Sportive Memaliaj
DTSTART:20101020T153000
DTEND:20101020T171500
LOCATION:Memaliaj\,
SUMMARY:Kupa e Shqiperise 2010-11 :Memaliaj - Laci
END:VEVENT
BEGIN:VEVENT
UID:20260423T164337CEST-1403FF3Uwb@146.185.150.6
DTSTAMP:20260423T144337Z
DESCRIPTION:Fusha Sportive Laç
DTSTART:20101103T153000
DTEND:20101103T171500
LOCATION:Laç\,
SUMMARY:Kupa e Shqiperise 2010-11 :Laci - Memaliaj
END:VEVENT
END:VCALENDAR
