﻿BEGIN:VCALENDAR
PRODID:-//146.185.150.6//NONSGML iCalcreator 2.6//
VERSION:2.0
BEGIN:VEVENT
UID:20260423T135939CEST-8875c0GVnU@146.185.150.6
DTSTAMP:20260423T115939Z
DESCRIPTION:
DTSTART:20101020T153000
DTEND:20101020T171500
LOCATION:
SUMMARY:Kupa e Shqiperise 2010-11 :Tomori - Flamurtari
END:VEVENT
BEGIN:VEVENT
UID:20260423T135939CEST-88789Kt0jK@146.185.150.6
DTSTAMP:20260423T115939Z
DESCRIPTION:Stadiumi 'Flamurtari' - Vlorë
DTSTART:20101103T153000
DTEND:20101103T171500
LOCATION:Vlore\,
SUMMARY:Kupa e Shqiperise 2010-11 :Flamurtari - Tomori
END:VEVENT
BEGIN:VEVENT
UID:20260423T135939CEST-88800ABSpj@146.185.150.6
DTSTAMP:20260423T115939Z
DESCRIPTION:Stadiumi 'Flamurtari' - Vlorë
DTSTART:20101124T140000
DTEND:20101124T154500
LOCATION:Vlore\,
SUMMARY:Kupa e Shqiperise 2010-11 :Bylis - Flamurtari
END:VEVENT
BEGIN:VEVENT
UID:20260423T135939CEST-8883AvK9MM@146.185.150.6
DTSTAMP:20260423T115939Z
DESCRIPTION:Stadiumi 'Flamurtari' - Vlorë
DTSTART:20101208T140000
DTEND:20101208T154500
LOCATION:Vlore\,
SUMMARY:Kupa e Shqiperise 2010-11 :Flamurtari - Bylis
END:VEVENT
END:VCALENDAR
