﻿BEGIN:VCALENDAR
PRODID:-//146.185.150.6//NONSGML iCalcreator 2.6//
VERSION:2.0
BEGIN:VEVENT
UID:20260423T151950CEST-92183N7TNc@146.185.150.6
DTSTAMP:20260423T131950Z
DESCRIPTION:Stadiumi 'Ismail Xhemali' - Pukë
DTSTART:20101020T153000
DTEND:20101020T171500
LOCATION:Pukë\,
SUMMARY:Kupa e Shqiperise 2010-11 :Terbuni - Vllaznia
END:VEVENT
BEGIN:VEVENT
UID:20260423T151950CEST-922394A06F@146.185.150.6
DTSTAMP:20260423T131950Z
DESCRIPTION:Stadiumi 'Loro Boriçi' - Shkodër
DTSTART:20101103T153000
DTEND:20101103T171500
LOCATION:E851 Shkoderi\, Albania Stadiumi Loro Boriçi\,  Shkoder
SUMMARY:Kupa e Shqiperise 2010-11 :Vllaznia - Terbuni
END:VEVENT
BEGIN:VEVENT
UID:20260423T151950CEST-9228ovOTuw@146.185.150.6
DTSTAMP:20260423T131950Z
DESCRIPTION:Stadiumi 'Ruzhdi Bizhuta' - Elbasan
DTSTART:20101124T140000
DTEND:20101124T154500
LOCATION:Elbasan\,
SUMMARY:Kupa e Shqiperise 2010-11 :Elbasani - Vllaznia
END:VEVENT
BEGIN:VEVENT
UID:20260423T151950CEST-9233HwbGWu@146.185.150.6
DTSTAMP:20260423T131950Z
DESCRIPTION:Stadiumi 'Loro Boriçi' - Shkodër
DTSTART:20101208T140000
DTEND:20101208T154500
LOCATION:E851 Shkoderi\, Albania Stadiumi Loro Boriçi\,  Shkoder
SUMMARY:Kupa e Shqiperise 2010-11 :Vllaznia - Elbasani
END:VEVENT
BEGIN:VEVENT
UID:20260423T151950CEST-9238uHu2nC@146.185.150.6
DTSTAMP:20260423T131950Z
DESCRIPTION:Stadiumi 'Loro Boriçi' - Shkodër
DTSTART:20110216T140000
DTEND:20110216T154500
LOCATION:E851 Shkoderi\, Albania Stadiumi Loro Boriçi\,  Shkoder
SUMMARY:Kupa e Shqiperise 2010-11 :Vllaznia - Laci
END:VEVENT
BEGIN:VEVENT
UID:20260423T151950CEST-9244vicnWb@146.185.150.6
DTSTAMP:20260423T131950Z
DESCRIPTION:Fusha Sportive Laç
DTSTART:20110302T140000
DTEND:20110302T154500
LOCATION:Laç\,
SUMMARY:Kupa e Shqiperise 2010-11 :Laci - Vllaznia
END:VEVENT
BEGIN:VEVENT
UID:20260423T151950CEST-9249FZOZxt@146.185.150.6
DTSTAMP:20260423T131950Z
DESCRIPTION:Stadiumi 'Loro Boriçi' - Shkodër
DTSTART:20110316T160000
DTEND:20110316T174500
LOCATION:E851 Shkoderi\, Albania Stadiumi Loro Boriçi\,  Shkoder
SUMMARY:Kupa e Shqiperise 2010-11 :Vllaznia - Dinamo
END:VEVENT
BEGIN:VEVENT
UID:20260423T151950CEST-9254Dvrjim@146.185.150.6
DTSTAMP:20260423T131950Z
DESCRIPTION:Stadiumi Kombetar 'Qemal Stafa' - Tirana
DTSTART:20110406T160000
DTEND:20110406T174500
LOCATION:Tiranë\, Shqipëria (Stadiumi Qemal Stafa)\,  Tirana
SUMMARY:Kupa e Shqiperise 2010-11 :Dinamo - Vllaznia
END:VEVENT
END:VCALENDAR
