﻿BEGIN:VCALENDAR
PRODID:-//146.185.150.6//NONSGML iCalcreator 2.6//
VERSION:2.0
BEGIN:VEVENT
UID:20260423T153745CEST-7681689vIo@146.185.150.6
DTSTAMP:20260423T133745Z
DESCRIPTION:
DTSTART:20180912T170000
DTEND:20180912T184500
LOCATION:
SUMMARY:Kupa e Shqiperise 2018-19 :Burreli - Vllaznia
END:VEVENT
BEGIN:VEVENT
UID:20260423T153745CEST-76868C0fjH@146.185.150.6
DTSTAMP:20260423T133745Z
DESCRIPTION:Fusha Sportive Reshit Rusi - Shkoder
DTSTART:20180926T163000
DTEND:20180926T181500
LOCATION:Rruga Marie Shllaku\, Shkoder\, 1001 Shkoder
SUMMARY:Kupa e Shqiperise 2018-19 :Vllaznia - Burreli
END:VEVENT
END:VCALENDAR
