﻿BEGIN:VCALENDAR
PRODID:-//146.185.150.6//NONSGML iCalcreator 2.6//
VERSION:2.0
BEGIN:VEVENT
UID:20260423T151945CEST-6304lHZZvs@146.185.150.6
DTSTAMP:20260423T131945Z
DESCRIPTION:Stadiumi Kombetar 'Qemal Stafa' - Tirana
DTSTART:20180912T170000
DTEND:20180912T184500
LOCATION:Tiranë\, Shqipëria (Stadiumi Qemal Stafa)\,  Tirana
SUMMARY:Kupa e Shqiperise 2018-19 :Dinamo - Egnatia
END:VEVENT
BEGIN:VEVENT
UID:20260423T151945CEST-63074FOjFE@146.185.150.6
DTSTAMP:20260423T131945Z
DESCRIPTION:Stadiumi Kombetar 'Qemal Stafa' - Tirana
DTSTART:20180926T163000
DTEND:20180926T181500
LOCATION:Tiranë\, Shqipëria (Stadiumi Qemal Stafa)\,  Tirana
SUMMARY:Kupa e Shqiperise 2018-19 :Egnatia - Dinamo
END:VEVENT
BEGIN:VEVENT
UID:20260423T151945CEST-6310vZ60Vc@146.185.150.6
DTSTAMP:20260423T131945Z
DESCRIPTION:Stadiumi Kombetar 'Qemal Stafa' - Tirana
DTSTART:20190123T140000
DTEND:20190123T154500
LOCATION:Tiranë\, Shqipëria (Stadiumi Qemal Stafa)\,  Tirana
SUMMARY:Kupa e Shqiperise 2018-19 :Egnatia - Luftetari
END:VEVENT
BEGIN:VEVENT
UID:20260423T151945CEST-63133jVwFv@146.185.150.6
DTSTAMP:20260423T131945Z
DESCRIPTION:Stadiumi
DTSTART:20190206T143000
DTEND:20190206T161500
LOCATION:Gjirokaster\,
SUMMARY:Kupa e Shqiperise 2018-19 :Luftetari - Egnatia
END:VEVENT
END:VCALENDAR
