﻿BEGIN:VCALENDAR
PRODID:-//146.185.150.6//NONSGML iCalcreator 2.6//
VERSION:2.0
BEGIN:VEVENT
UID:20260423T170354CEST-4429i8u0GF@146.185.150.6
DTSTAMP:20260423T150354Z
DESCRIPTION:Stadiumi 'Ruzhdi Bizhuta' - Elbasan
DTSTART:20180902T170000
DTEND:20180902T184500
LOCATION:Elbasan\,
SUMMARY:Kupa e Shqiperise 2018-19 :Elbasani - Oriku
END:VEVENT
BEGIN:VEVENT
UID:20260423T170354CEST-44329Me5ur@146.185.150.6
DTSTAMP:20260423T150354Z
DESCRIPTION:Stadiumi 'Ruzhdi Bizhuta' - Elbasan
DTSTART:20180912T170000
DTEND:20180912T184500
LOCATION:Elbasan\,
SUMMARY:Kupa e Shqiperise 2018-19 :Oriku - Kukësi
END:VEVENT
BEGIN:VEVENT
UID:20260423T170354CEST-4434UfEnD5@146.185.150.6
DTSTAMP:20260423T150354Z
DESCRIPTION:Stadiumi 'Ruzhdi Bizhuta' - Elbasan
DTSTART:20180926T163000
DTEND:20180926T181500
LOCATION:Elbasan\,
SUMMARY:Kupa e Shqiperise 2018-19 :Kukësi - Oriku
END:VEVENT
END:VCALENDAR
