﻿BEGIN:VCALENDAR
PRODID:-//146.185.150.6//NONSGML iCalcreator 2.6//
VERSION:2.0
BEGIN:VEVENT
UID:20260423T153831CEST-6259fIRRxu@146.185.150.6
DTSTAMP:20260423T133831Z
DESCRIPTION:
DTSTART:20180912T170000
DTEND:20180912T184500
LOCATION:
SUMMARY:Kupa e Shqiperise 2018-19 :Korabi - Kastrioti
END:VEVENT
BEGIN:VEVENT
UID:20260423T153831CEST-6264I4B8SH@146.185.150.6
DTSTAMP:20260423T133831Z
DESCRIPTION:Stadiumi 'Kastrioti' - Krujë
DTSTART:20180926T163000
DTEND:20180926T181500
LOCATION:Kruje\,
SUMMARY:Kupa e Shqiperise 2018-19 :Kastrioti - Korabi
END:VEVENT
END:VCALENDAR
