﻿BEGIN:VCALENDAR
PRODID:-//146.185.150.6//NONSGML iCalcreator 2.6//
VERSION:2.0
BEGIN:VEVENT
UID:20260423T151948CEST-6979Pgv1kC@146.185.150.6
DTSTAMP:20260423T131948Z
DESCRIPTION:
DTSTART:20180912T170000
DTEND:20180912T184500
LOCATION:
SUMMARY:Kupa e Shqiperise 2018-19 :Naftetari - Laci
END:VEVENT
BEGIN:VEVENT
UID:20260423T151948CEST-6982BUCMdE@146.185.150.6
DTSTAMP:20260423T131948Z
DESCRIPTION:Fusha Sportive Laç
DTSTART:20180926T163000
DTEND:20180926T181500
LOCATION:Laç\,
SUMMARY:Kupa e Shqiperise 2018-19 :Laci - Naftetari
END:VEVENT
BEGIN:VEVENT
UID:20260423T151948CEST-6985U5xkwP@146.185.150.6
DTSTAMP:20260423T131948Z
DESCRIPTION:Fusha Sportive Laç
DTSTART:20190123T140000
DTEND:20190123T154500
LOCATION:Laç\,
SUMMARY:Kupa e Shqiperise 2018-19 :Bylis - Laci
END:VEVENT
BEGIN:VEVENT
UID:20260423T151948CEST-6987P6BD8a@146.185.150.6
DTSTAMP:20260423T131948Z
DESCRIPTION:Fusha Sportive Laç
DTSTART:20190206T143000
DTEND:20190206T161500
LOCATION:Laç\,
SUMMARY:Kupa e Shqiperise 2018-19 :Laci - Bylis
END:VEVENT
END:VCALENDAR
