﻿BEGIN:VCALENDAR
PRODID:-//146.185.150.6//NONSGML iCalcreator 2.6//
VERSION:2.0
BEGIN:VEVENT
UID:20260423T151948CEST-8229GV4rLO@146.185.150.6
DTSTAMP:20260423T131948Z
DESCRIPTION:Stadiumi 'Ismail Xhemali' - Pukë
DTSTART:20180912T170000
DTEND:20180912T184500
LOCATION:Pukë\,
SUMMARY:Kupa e Shqiperise 2018-19 :Terbuni - Partizani
END:VEVENT
BEGIN:VEVENT
UID:20260423T151948CEST-8233eaSVAX@146.185.150.6
DTSTAMP:20260423T131948Z
DESCRIPTION:Stadiumi Kombetar 'Qemal Stafa' - Tirana
DTSTART:20180925T163000
DTEND:20180925T181500
LOCATION:Tiranë\, Shqipëria (Stadiumi Qemal Stafa)\,  Tirana
SUMMARY:Kupa e Shqiperise 2018-19 :Partizani - Terbuni
END:VEVENT
END:VCALENDAR
