﻿BEGIN:VCALENDAR
PRODID:-//146.185.150.6//NONSGML iCalcreator 2.6//
VERSION:2.0
BEGIN:VEVENT
UID:20260422T212925CEST-75694B81gG@146.185.150.6
DTSTAMP:20260422T192925Z
DESCRIPTION:Stadiumi 'Ismet Shabani' - Ferizaj
DTSTART:20100815T180000
DTEND:20100815T194900
LOCATION:Ferizaj\,
SUMMARY:Raiffeisen Superliga Kosove 2010-11 :FERIZAJ - TREPCA 89
END:VEVENT
BEGIN:VEVENT
UID:20260422T212925CEST-7572otmSfG@146.185.150.6
DTSTAMP:20260422T192925Z
DESCRIPTION:Stadiumi 'Ismet Shabani' - Ferizaj
DTSTART:20100822T180000
DTEND:20100822T194900
LOCATION:Ferizaj\,
SUMMARY:Raiffeisen Superliga Kosove 2010-11 :BALLKANI - FERIZAJ
END:VEVENT
BEGIN:VEVENT
UID:20260422T212925CEST-75760l4VvA@146.185.150.6
DTSTAMP:20260422T192925Z
DESCRIPTION:Stadiumi 'Ismet Shabani' - Ferizaj
DTSTART:20100829T180000
DTEND:20100829T194900
LOCATION:Ferizaj\,
SUMMARY:Raiffeisen Superliga Kosove 2010-11 :FERIZAJ - FLAMURTARI
END:VEVENT
BEGIN:VEVENT
UID:20260422T212925CEST-7581o8rjUI@146.185.150.6
DTSTAMP:20260422T192925Z
DESCRIPTION:Stadiumi 'Ismet Shabani' - Ferizaj
DTSTART:20100901T170000
DTEND:20100901T184900
LOCATION:Ferizaj\,
SUMMARY:Raiffeisen Superliga Kosove 2010-11 :FERIZAJ - TREPCA
END:VEVENT
BEGIN:VEVENT
UID:20260422T212925CEST-75856uFww2@146.185.150.6
DTSTAMP:20260422T192925Z
DESCRIPTION:Stadiumi 'Ismet Shabani' - Ferizaj
DTSTART:20100904T170000
DTEND:20100904T184900
LOCATION:Ferizaj\,
SUMMARY:Raiffeisen Superliga Kosove 2010-11 :KEK-U - FERIZAJ
END:VEVENT
BEGIN:VEVENT
UID:20260422T212925CEST-7588LmV5O2@146.185.150.6
DTSTAMP:20260422T192925Z
DESCRIPTION:Stadiumi 'Ismet Shabani' - Ferizaj
DTSTART:20100912T170000
DTEND:20100912T184900
LOCATION:Ferizaj\,
SUMMARY:Raiffeisen Superliga Kosove 2010-11 :FERIZAJ - HYSI
END:VEVENT
BEGIN:VEVENT
UID:20260422T212925CEST-7591Lh0UeK@146.185.150.6
DTSTAMP:20260422T192925Z
DESCRIPTION:Stadiumi 'Shahin Haxhiislami' - Pejë
DTSTART:20100919T160000
DTEND:20100919T174900
LOCATION:PejÃ«\,
SUMMARY:Raiffeisen Superliga Kosove 2010-11 :BESA - FERIZAJ
END:VEVENT
BEGIN:VEVENT
UID:20260422T212925CEST-7594aUASF7@146.185.150.6
DTSTAMP:20260422T192925Z
DESCRIPTION:Stadiumi 'Shahin Haxhiislami' - Pejë
DTSTART:20100926T160000
DTEND:20100926T174900
LOCATION:PejÃ«\,
SUMMARY:Raiffeisen Superliga Kosove 2010-11 :FERIZAJ - VELLAZNIMI
END:VEVENT
BEGIN:VEVENT
UID:20260422T212925CEST-7596vMTV0L@146.185.150.6
DTSTAMP:20260422T192925Z
DESCRIPTION:Stadiumi 'Përparim Thaçi' - Prizren
DTSTART:20101002T160000
DTEND:20101002T174900
LOCATION:Prizren\,
SUMMARY:Raiffeisen Superliga Kosove 2010-11 :LIRIA - FERIZAJ
END:VEVENT
BEGIN:VEVENT
UID:20260422T212925CEST-75990JjvgS@146.185.150.6
DTSTAMP:20260422T192925Z
DESCRIPTION:Stadiumi 'Përparim Thaçi' - Prizren
DTSTART:20101013T150000
DTEND:20101013T164900
LOCATION:Prizren\,
SUMMARY:Raiffeisen Superliga Kosove 2010-11 :FERIZAJ - PRISHTINA
END:VEVENT
BEGIN:VEVENT
UID:20260422T212925CEST-7602C3TuUh@146.185.150.6
DTSTAMP:20260422T192925Z
DESCRIPTION:Stadiumi 'Bajram Aliu' - Skënderaj
DTSTART:20101016T150000
DTEND:20101016T164900
LOCATION:SkÃ«nderaj\,
SUMMARY:Raiffeisen Superliga Kosove 2010-11 :DRENICA - FERIZAJ
END:VEVENT
BEGIN:VEVENT
UID:20260422T212925CEST-7605ZVb21b@146.185.150.6
DTSTAMP:20260422T192925Z
DESCRIPTION:Stadiumi 'Riza Lushta' - Mitrovicë
DTSTART:20101024T150500
DTEND:20101024T165400
LOCATION:\,  Mitrovica
SUMMARY:Raiffeisen Superliga Kosove 2010-11 :TREPCA 89 - FERIZAJ
END:VEVENT
BEGIN:VEVENT
UID:20260422T212925CEST-7608JkGnII@146.185.150.6
DTSTAMP:20260422T192925Z
DESCRIPTION:Stadiumi 'Riza Lushta' - Mitrovicë
DTSTART:20101031T150000
DTEND:20101031T164900
LOCATION:\,  Mitrovica
SUMMARY:Raiffeisen Superliga Kosove 2010-11 :FERIZAJ - BALLKANI
END:VEVENT
BEGIN:VEVENT
UID:20260422T212925CEST-7611PnAr87@146.185.150.6
DTSTAMP:20260422T192925Z
DESCRIPTION:Stadiumi 'Riza Lushta' - Mitrovicë
DTSTART:20101103T150000
DTEND:20101103T164900
LOCATION:\,  Mitrovica
SUMMARY:Raiffeisen Superliga Kosove 2010-11 :FLAMURTARI - FERIZAJ
END:VEVENT
BEGIN:VEVENT
UID:20260422T212925CEST-76164mvPPF@146.185.150.6
DTSTAMP:20260422T192925Z
DESCRIPTION:Stadiumi 'Riza Lushta' - Mitrovicë
DTSTART:20101107T140000
DTEND:20101107T154900
LOCATION:\,  Mitrovica
SUMMARY:Raiffeisen Superliga Kosove 2010-11 :TREPCA - FERIZAJ
END:VEVENT
BEGIN:VEVENT
UID:20260422T212925CEST-7619dmP3B6@146.185.150.6
DTSTAMP:20260422T192925Z
DESCRIPTION:Stadiumi 'Riza Lushta' - Mitrovicë
DTSTART:20101114T140000
DTEND:20101114T154900
LOCATION:\,  Mitrovica
SUMMARY:Raiffeisen Superliga Kosove 2010-11 :FERIZAJ - KEK-U
END:VEVENT
BEGIN:VEVENT
UID:20260422T212925CEST-7624k7IitC@146.185.150.6
DTSTAMP:20260422T192925Z
DESCRIPTION:Stadiumi i Qytetit - Merdare
DTSTART:20101121T140000
DTEND:20101121T154900
LOCATION:Merdare-PrishtinÃ«\,
SUMMARY:Raiffeisen Superliga Kosove 2010-11 :HYSI - FERIZAJ
END:VEVENT
BEGIN:VEVENT
UID:20260422T212925CEST-7628MRT0gA@146.185.150.6
DTSTAMP:20260422T192925Z
DESCRIPTION:Stadiumi i Qytetit - Merdare
DTSTART:20110306T151500
DTEND:20110306T170400
LOCATION:Merdare-PrishtinÃ«\,
SUMMARY:Raiffeisen Superliga Kosove 2010-11 :FERIZAJ - BESA
END:VEVENT
BEGIN:VEVENT
UID:20260422T212925CEST-76324UveR5@146.185.150.6
DTSTAMP:20260422T192925Z
DESCRIPTION:Stadiumi i Qytetit - Merdare
DTSTART:20110314T150000
DTEND:20110314T164900
LOCATION:Merdare-PrishtinÃ«\,
SUMMARY:Raiffeisen Superliga Kosove 2010-11 :VELLAZNIMI - FERIZAJ
END:VEVENT
BEGIN:VEVENT
UID:20260422T212925CEST-7635okL7RI@146.185.150.6
DTSTAMP:20260422T192925Z
DESCRIPTION:Stadiumi i Qytetit - Merdare
DTSTART:20110320T150600
DTEND:20110320T165500
LOCATION:Merdare-PrishtinÃ«\,
SUMMARY:Raiffeisen Superliga Kosove 2010-11 :FERIZAJ - LIRIA
END:VEVENT
BEGIN:VEVENT
UID:20260422T212925CEST-7637BOihbC@146.185.150.6
DTSTAMP:20260422T192925Z
DESCRIPTION:Stadiumi i Qytetit - Merdare
DTSTART:20110330T150000
DTEND:20110330T164900
LOCATION:Merdare-PrishtinÃ«\,
SUMMARY:Raiffeisen Superliga Kosove 2010-11 :PRISHTINA - FERIZAJ
END:VEVENT
BEGIN:VEVENT
UID:20260422T212925CEST-7640hh0V2L@146.185.150.6
DTSTAMP:20260422T192925Z
DESCRIPTION:Stadiumi i Qytetit - Merdare
DTSTART:20110409T160000
DTEND:20110409T174900
LOCATION:Merdare-PrishtinÃ«\,
SUMMARY:Raiffeisen Superliga Kosove 2010-11 :KEK-U - FERIZAJ
END:VEVENT
END:VCALENDAR
