﻿BEGIN:VCALENDAR
PRODID:-//146.185.150.6//NONSGML iCalcreator 2.6//
VERSION:2.0
BEGIN:VEVENT
UID:20260423T164335CEST-7658TSvsW7@146.185.150.6
DTSTAMP:20260423T144335Z
DESCRIPTION:Stadiumi 'Ruzhdi Bizhuta' - Elbasan
DTSTART:20170913T170000
DTEND:20170913T184500
LOCATION:Elbasan\,
SUMMARY:Kupa e Shqiperise 2017-18 :Elbasani - Luftetari
END:VEVENT
BEGIN:VEVENT
UID:20260423T164335CEST-7660Rmcg9S@146.185.150.6
DTSTAMP:20260423T144335Z
DESCRIPTION:Stadiumi
DTSTART:20170927T163000
DTEND:20170927T181500
LOCATION:Gjirokaster\,
SUMMARY:Kupa e Shqiperise 2017-18 :Luftetari - Elbasani
END:VEVENT
BEGIN:VEVENT
UID:20260423T164335CEST-7663FgL1jl@146.185.150.6
DTSTAMP:20260423T144335Z
DESCRIPTION:Stadiumi
DTSTART:20171129T150000
DTEND:20171129T164500
LOCATION:Gjirokaster\,
SUMMARY:Kupa e Shqiperise 2017-18 :Bylis - Luftetari
END:VEVENT
BEGIN:VEVENT
UID:20260423T164335CEST-7665sVOKea@146.185.150.6
DTSTAMP:20260423T144335Z
DESCRIPTION:Stadiumi
DTSTART:20171213T140000
DTEND:20171213T154500
LOCATION:Gjirokaster\,
SUMMARY:Kupa e Shqiperise 2017-18 :Luftetari - Bylis
END:VEVENT
END:VCALENDAR
