﻿BEGIN:VCALENDAR
PRODID:-//146.185.150.6//NONSGML iCalcreator 2.6//
VERSION:2.0
BEGIN:VEVENT
UID:20260423T152910CEST-7029lBTujW@146.185.150.6
DTSTAMP:20260423T132910Z
DESCRIPTION:
DTSTART:20170913T170000
DTEND:20170913T184500
LOCATION:
SUMMARY:Kupa e Shqiperise 2017-18 :Burreli - Erzeni
END:VEVENT
BEGIN:VEVENT
UID:20260423T152910CEST-70317PU3pd@146.185.150.6
DTSTAMP:20260423T132910Z
DESCRIPTION:
DTSTART:20170927T163000
DTEND:20170927T181500
LOCATION:
SUMMARY:Kupa e Shqiperise 2017-18 :Erzeni - Burreli
END:VEVENT
END:VCALENDAR
