﻿BEGIN:VCALENDAR
PRODID:-//146.185.150.6//NONSGML iCalcreator 2.6//
VERSION:2.0
BEGIN:VEVENT
UID:20260423T153831CEST-3600veXEfG@146.185.150.6
DTSTAMP:20260423T133831Z
DESCRIPTION:
DTSTART:20170906T170000
DTEND:20170906T184500
LOCATION:
SUMMARY:Kupa e Shqiperise 2017-18 :Egnatia - Vora
END:VEVENT
BEGIN:VEVENT
UID:20260423T153831CEST-3603XTNvD0@146.185.150.6
DTSTAMP:20260423T133831Z
DESCRIPTION:
DTSTART:20170913T170000
DTEND:20170913T184500
LOCATION:
SUMMARY:Kupa e Shqiperise 2017-18 :Egnatia - Kukësi
END:VEVENT
BEGIN:VEVENT
UID:20260423T153831CEST-3606OMKrx4@146.185.150.6
DTSTAMP:20260423T133831Z
DESCRIPTION:
DTSTART:20170927T163000
DTEND:20170927T181500
LOCATION:
SUMMARY:Kupa e Shqiperise 2017-18 :Kukësi - Egnatia
END:VEVENT
END:VCALENDAR
