﻿BEGIN:VCALENDAR
PRODID:-//146.185.150.6//NONSGML iCalcreator 2.6//
VERSION:2.0
BEGIN:VEVENT
UID:20260423T170354CEST-2783mAUIRa@146.185.150.6
DTSTAMP:20260423T150354Z
DESCRIPTION:Fusha Sportive Cërrik
DTSTART:20170913T170000
DTEND:20170913T184500
LOCATION:Cërrik\,
SUMMARY:Kupa e Shqiperise 2017-18 :Turbina - Korabi
END:VEVENT
BEGIN:VEVENT
UID:20260423T170354CEST-2788OmMVPT@146.185.150.6
DTSTAMP:20260423T150354Z
DESCRIPTION:Fusha Sportive Cërrik
DTSTART:20170927T163000
DTEND:20170927T181500
LOCATION:Cërrik\,
SUMMARY:Kupa e Shqiperise 2017-18 :Korabi - Turbina
END:VEVENT
END:VCALENDAR
