﻿BEGIN:VCALENDAR
PRODID:-//146.185.150.6//NONSGML iCalcreator 2.6//
VERSION:2.0
BEGIN:VEVENT
UID:20260423T153830CEST-7662XI6US7@146.185.150.6
DTSTAMP:20260423T133830Z
DESCRIPTION:Fusha Sportive Peqin
DTSTART:20170913T170000
DTEND:20170913T184500
LOCATION:Peqin\,
SUMMARY:Kupa e Shqiperise 2017-18 :Shkumbini - Pogradeci
END:VEVENT
BEGIN:VEVENT
UID:20260423T153830CEST-7667fnFNMs@146.185.150.6
DTSTAMP:20260423T133830Z
DESCRIPTION:Fusha Sportive Peqin
DTSTART:20170927T163000
DTEND:20170927T181500
LOCATION:Peqin\,
SUMMARY:Kupa e Shqiperise 2017-18 :Pogradeci - Shkumbini
END:VEVENT
END:VCALENDAR
