﻿BEGIN:VCALENDAR
PRODID:-//146.185.150.6//NONSGML iCalcreator 2.6//
VERSION:2.0
BEGIN:VEVENT
UID:20260423T151944CEST-1889e5RdfE@146.185.150.6
DTSTAMP:20260423T131944Z
DESCRIPTION:
DTSTART:20170913T140000
DTEND:20170913T154500
LOCATION:
SUMMARY:Kupa e Shqiperise 2017-18 :Sopoti - Laci
END:VEVENT
BEGIN:VEVENT
UID:20260423T151944CEST-1894Bp4J88@146.185.150.6
DTSTAMP:20260423T131944Z
DESCRIPTION:Fusha Sportive Laç
DTSTART:20170927T163000
DTEND:20170927T181500
LOCATION:Laç\,
SUMMARY:Kupa e Shqiperise 2017-18 :Laci - Sopoti
END:VEVENT
BEGIN:VEVENT
UID:20260423T151944CEST-1898NL2s00@146.185.150.6
DTSTAMP:20260423T131944Z
DESCRIPTION:Stadiumi 'Loni Papuçiu' - Fier
DTSTART:20171129T150000
DTEND:20171129T164500
LOCATION:Fier\,
SUMMARY:Kupa e Shqiperise 2017-18 :Lushnja - Laci
END:VEVENT
BEGIN:VEVENT
UID:20260423T151944CEST-1901cNVOS0@146.185.150.6
DTSTAMP:20260423T131944Z
DESCRIPTION:Fusha Sportive Laç
DTSTART:20171213T140000
DTEND:20171213T154500
LOCATION:Laç\,
SUMMARY:Kupa e Shqiperise 2017-18 :Laci - Lushnja
END:VEVENT
END:VCALENDAR
