﻿BEGIN:VCALENDAR
PRODID:-//146.185.150.6//NONSGML iCalcreator 2.6//
VERSION:2.0
BEGIN:VEVENT
UID:20260423T153831CEST-5529v8P69i@146.185.150.6
DTSTAMP:20260423T133831Z
DESCRIPTION:Stadiumi Kombetar 'Qemal Stafa' - Tirana
DTSTART:20170913T170000
DTEND:20170913T184500
LOCATION:Tiranë\, Shqipëria (Stadiumi Qemal Stafa)\,  Tirana
SUMMARY:Kupa e Shqiperise 2017-18 :Dinamo - Flamurtari
END:VEVENT
BEGIN:VEVENT
UID:20260423T153831CEST-5534JI6vno@146.185.150.6
DTSTAMP:20260423T133831Z
DESCRIPTION:Stadiumi 'Flamurtari' - Vlorë
DTSTART:20170927T163000
DTEND:20170927T181500
LOCATION:Vlore\,
SUMMARY:Kupa e Shqiperise 2017-18 :Flamurtari - Dinamo
END:VEVENT
END:VCALENDAR
