﻿BEGIN:VCALENDAR
PRODID:-//146.185.150.6//NONSGML iCalcreator 2.6//
VERSION:2.0
BEGIN:VEVENT
UID:20260423T170354CEST-3309lVf7af@146.185.150.6
DTSTAMP:20260423T150354Z
DESCRIPTION:
DTSTART:20170906T180000
DTEND:20170906T194500
LOCATION:
SUMMARY:Kupa e Shqiperise 2017-18 :Mamurras - Skenderbeu
END:VEVENT
BEGIN:VEVENT
UID:20260423T170354CEST-3312Oc1Psd@146.185.150.6
DTSTAMP:20260423T150354Z
DESCRIPTION:Stadiumi 'Skënderbeu'
DTSTART:20171005T170000
DTEND:20171005T184500
LOCATION:Korçë\,
SUMMARY:Kupa e Shqiperise 2017-18 :Skenderbeu - Mamurras
END:VEVENT
END:VCALENDAR
