﻿BEGIN:VCALENDAR
PRODID:-//146.185.150.6//NONSGML iCalcreator 2.6//
VERSION:2.0
BEGIN:VEVENT
UID:20260423T170347CEST-0639GK6whx@146.185.150.6
DTSTAMP:20260423T150347Z
DESCRIPTION:Fusha Sportive Cërrik
DTSTART:20160928T170000
DTEND:20160928T184500
LOCATION:Cërrik\,
SUMMARY:Kupa e Shqiperise 2016-17 :Turbina - Laci
END:VEVENT
BEGIN:VEVENT
UID:20260423T170347CEST-06425oW5wk@146.185.150.6
DTSTAMP:20260423T150347Z
DESCRIPTION:Fusha Sportive Laç
DTSTART:20161005T150000
DTEND:20161005T164500
LOCATION:Laç\,
SUMMARY:Kupa e Shqiperise 2016-17 :Laci - Turbina
END:VEVENT
END:VCALENDAR
