﻿BEGIN:VCALENDAR
PRODID:-//146.185.150.6//NONSGML iCalcreator 2.6//
VERSION:2.0
BEGIN:VEVENT
UID:20260423T151950CEST-9647IxAeF2@146.185.150.6
DTSTAMP:20260423T131950Z
DESCRIPTION:
DTSTART:20160925T160000
DTEND:20160925T174500
LOCATION:
SUMMARY:Kupa e Shqiperise 2016-17 :Butrinti - Naftetari
END:VEVENT
END:VCALENDAR
