﻿BEGIN:VCALENDAR
PRODID:-//146.185.150.6//NONSGML iCalcreator 2.6//
VERSION:2.0
BEGIN:VEVENT
UID:20260423T151950CEST-8456mgoUwE@146.185.150.6
DTSTAMP:20260423T131950Z
DESCRIPTION:Fusha Sportive Peqin
DTSTART:20160928T170000
DTEND:20160928T184500
LOCATION:Peqin\,
SUMMARY:Kupa e Shqiperise 2016-17 :Shkumbini - Bylis
END:VEVENT
BEGIN:VEVENT
UID:20260423T151950CEST-8462Tr6pvc@146.185.150.6
DTSTAMP:20260423T131950Z
DESCRIPTION:Fusha Sportive Peqin
DTSTART:20161005T150000
DTEND:20161005T164500
LOCATION:Peqin\,
SUMMARY:Kupa e Shqiperise 2016-17 :Bylis - Shkumbini
END:VEVENT
BEGIN:VEVENT
UID:20260423T151950CEST-8467vmcgf5@146.185.150.6
DTSTAMP:20260423T131950Z
DESCRIPTION:Fusha Sportive Peqin
DTSTART:20161026T150000
DTEND:20161026T164500
LOCATION:Peqin\,
SUMMARY:Kupa e Shqiperise 2016-17 :Bylis - Laci
END:VEVENT
BEGIN:VEVENT
UID:20260423T151950CEST-8472i52K8g@146.185.150.6
DTSTAMP:20260423T131950Z
DESCRIPTION:Fusha Sportive Laç
DTSTART:20161116T143000
DTEND:20161116T161500
LOCATION:Laç\,
SUMMARY:Kupa e Shqiperise 2016-17 :Laci - Bylis
END:VEVENT
END:VCALENDAR
