﻿BEGIN:VCALENDAR
PRODID:-//146.185.150.6//NONSGML iCalcreator 2.6//
VERSION:2.0
BEGIN:VEVENT
UID:20260423T170354CEST-35444bB4BV@146.185.150.6
DTSTAMP:20260423T150354Z
DESCRIPTION:
DTSTART:20160925T160000
DTEND:20160925T174500
LOCATION:
SUMMARY:Kupa e Shqiperise 2016-17 :Ada - Kevitan
END:VEVENT
BEGIN:VEVENT
UID:20260423T170354CEST-3547OzuveV@146.185.150.6
DTSTAMP:20260423T150354Z
DESCRIPTION:
DTSTART:20160928T170000
DTEND:20160928T184500
LOCATION:
SUMMARY:Kupa e Shqiperise 2016-17 :Kevitan - Partizani
END:VEVENT
BEGIN:VEVENT
UID:20260423T170354CEST-3549ZzCbkV@146.185.150.6
DTSTAMP:20260423T150354Z
DESCRIPTION:Stadiumi Kombetar 'Qemal Stafa' - Tirana
DTSTART:20161006T150000
DTEND:20161006T164500
LOCATION:Tiranë\, Shqipëria (Stadiumi Qemal Stafa)\,  Tirana
SUMMARY:Kupa e Shqiperise 2016-17 :Partizani - Kevitan
END:VEVENT
END:VCALENDAR
