﻿BEGIN:VCALENDAR
PRODID:-//146.185.150.6//NONSGML iCalcreator 2.6//
VERSION:2.0
BEGIN:VEVENT
UID:20260423T153831CEST-1427zgImGI@146.185.150.6
DTSTAMP:20260423T133831Z
DESCRIPTION:
DTSTART:20160928T170000
DTEND:20160928T184500
LOCATION:
SUMMARY:Kupa e Shqiperise 2016-17 :Kamza - Korabi
END:VEVENT
BEGIN:VEVENT
UID:20260423T153831CEST-1431H9UvFM@146.185.150.6
DTSTAMP:20260423T133831Z
DESCRIPTION:
DTSTART:20161005T150000
DTEND:20161005T164500
LOCATION:
SUMMARY:Kupa e Shqiperise 2016-17 :Korabi - Kamza
END:VEVENT
END:VCALENDAR
