﻿BEGIN:VCALENDAR
PRODID:-//146.185.150.6//NONSGML iCalcreator 2.6//
VERSION:2.0
BEGIN:VEVENT
UID:20260423T153745CEST-6973mMuV11@146.185.150.6
DTSTAMP:20260423T133745Z
DESCRIPTION:
DTSTART:20160928T170000
DTEND:20160928T184500
LOCATION:
SUMMARY:Kupa e Shqiperise 2016-17 :Sopoti - Tirana
END:VEVENT
BEGIN:VEVENT
UID:20260423T153745CEST-6980xNvwZF@146.185.150.6
DTSTAMP:20260423T133745Z
DESCRIPTION:Stadiumi 'Selman Stërmasi'
DTSTART:20161005T150000
DTEND:20161005T164500
LOCATION:Stadiumi Selman Stërmasi\,  Tirana
SUMMARY:Kupa e Shqiperise 2016-17 :Tirana - Sopoti
END:VEVENT
BEGIN:VEVENT
UID:20260423T153745CEST-6985CvLPO5@146.185.150.6
DTSTAMP:20260423T133745Z
DESCRIPTION:Stadiumi
DTSTART:20161026T150000
DTEND:20161026T164500
LOCATION:Gjirokaster\,
SUMMARY:Kupa e Shqiperise 2016-17 :Luftetari - Tirana
END:VEVENT
BEGIN:VEVENT
UID:20260423T153745CEST-6989esAhvn@146.185.150.6
DTSTAMP:20260423T133745Z
DESCRIPTION:Stadiumi 'Selman Stërmasi'
DTSTART:20161116T143000
DTEND:20161116T161500
LOCATION:Stadiumi Selman Stërmasi\,  Tirana
SUMMARY:Kupa e Shqiperise 2016-17 :Tirana - Luftetari
END:VEVENT
BEGIN:VEVENT
UID:20260423T153745CEST-69922jGovF@146.185.150.6
DTSTAMP:20260423T133745Z
DESCRIPTION:Stadiumi 'Selman Stërmasi'
DTSTART:20170201T180000
DTEND:20170201T194500
LOCATION:Stadiumi Selman Stërmasi\,  Tirana
SUMMARY:Kupa e Shqiperise 2016-17 :Tirana - Kukësi
END:VEVENT
BEGIN:VEVENT
UID:20260423T153745CEST-6994TIhLxp@146.185.150.6
DTSTAMP:20260423T133745Z
DESCRIPTION:Stadiumi 'Selman Stërmasi'
DTSTART:20170215T143000
DTEND:20170215T161500
LOCATION:Stadiumi Selman Stërmasi\,  Tirana
SUMMARY:Kupa e Shqiperise 2016-17 :Kukësi - Tirana
END:VEVENT
BEGIN:VEVENT
UID:20260423T153745CEST-6997oGKDvX@146.185.150.6
DTSTAMP:20260423T133745Z
DESCRIPTION:Stadiumi 'Brian Filipi' - Lezhë
DTSTART:20170406T150000
DTEND:20170406T164500
LOCATION:Lezhë\,
SUMMARY:Kupa e Shqiperise 2016-17 :Beselidhja - Tirana
END:VEVENT
BEGIN:VEVENT
UID:20260423T153745CEST-699971LAuG@146.185.150.6
DTSTAMP:20260423T133745Z
DESCRIPTION:Stadiumi 'Selman Stërmasi'
DTSTART:20170419T190000
DTEND:20170419T204500
LOCATION:Stadiumi Selman Stërmasi\,  Tirana
SUMMARY:Kupa e Shqiperise 2016-17 :Tirana - Beselidhja
END:VEVENT
BEGIN:VEVENT
UID:20260423T153745CEST-7003vo8spU@146.185.150.6
DTSTAMP:20260423T133745Z
DESCRIPTION:Stadiumi 'Skënderbeu'
DTSTART:20170531T210000
DTEND:20170531T224500
LOCATION:Korçë\,
SUMMARY:Kupa e Shqiperise 2016-17 :Skenderbeu - Tirana
END:VEVENT
END:VCALENDAR
