﻿BEGIN:VCALENDAR
PRODID:-//146.185.150.6//NONSGML iCalcreator 2.6//
VERSION:2.0
BEGIN:VEVENT
UID:20260423T170355CEST-2035AOFsi1@146.185.150.6
DTSTAMP:20260423T150355Z
DESCRIPTION:
DTSTART:20160925T160000
DTEND:20160925T174500
LOCATION:
SUMMARY:Kupa e Shqiperise 2016-17 :Butrinti - Naftetari
END:VEVENT
BEGIN:VEVENT
UID:20260423T170355CEST-2040sUVcwP@146.185.150.6
DTSTAMP:20260423T150355Z
DESCRIPTION:
DTSTART:20160928T170000
DTEND:20160928T184500
LOCATION:
SUMMARY:Kupa e Shqiperise 2016-17 :Butrinti - Skenderbeu
END:VEVENT
BEGIN:VEVENT
UID:20260423T170355CEST-20457uPxre@146.185.150.6
DTSTAMP:20260423T150355Z
DESCRIPTION:Stadiumi 'Skënderbeu'
DTSTART:20161005T150000
DTEND:20161005T164500
LOCATION:Korçë\,
SUMMARY:Kupa e Shqiperise 2016-17 :Skenderbeu - Butrinti
END:VEVENT
END:VCALENDAR
