﻿BEGIN:VCALENDAR
PRODID:-//146.185.150.6//NONSGML iCalcreator 2.6//
VERSION:2.0
BEGIN:VEVENT
UID:20260423T004144CEST-7819WWnKon@146.185.150.6
DTSTAMP:20260423T224144Z
DESCRIPTION:
DTSTART:20150823T163000
DTEND:20150823T181500
LOCATION:
SUMMARY:Raiffeisen Superliga Kosove 2015-16 :LIRIA - DRENICA
END:VEVENT
BEGIN:VEVENT
UID:20260423T004144CEST-7824R57iHB@146.185.150.6
DTSTAMP:20260423T224144Z
DESCRIPTION:
DTSTART:20150830T163000
DTEND:20150830T181500
LOCATION:
SUMMARY:Raiffeisen Superliga Kosove 2015-16 :GJILAN - LIRIA
END:VEVENT
BEGIN:VEVENT
UID:20260423T004144CEST-7827W8AfbN@146.185.150.6
DTSTAMP:20260423T224144Z
DESCRIPTION:
DTSTART:20150905T163000
DTEND:20150905T181500
LOCATION:
SUMMARY:Raiffeisen Superliga Kosove 2015-16 :LIRIA - FERONIKELI
END:VEVENT
BEGIN:VEVENT
UID:20260423T004144CEST-7830riipCx@146.185.150.6
DTSTAMP:20260423T224144Z
DESCRIPTION:
DTSTART:20150912T163000
DTEND:20150912T181500
LOCATION:
SUMMARY:Raiffeisen Superliga Kosove 2015-16 :KF ISTOGU - LIRIA
END:VEVENT
BEGIN:VEVENT
UID:20260423T004144CEST-783332DKOg@146.185.150.6
DTSTAMP:20260423T224144Z
DESCRIPTION:
DTSTART:20150916T163000
DTEND:20150916T181500
LOCATION:
SUMMARY:Raiffeisen Superliga Kosove 2015-16 :LIRIA - KF LLAPI
END:VEVENT
BEGIN:VEVENT
UID:20260423T004144CEST-7836ZKick8@146.185.150.6
DTSTAMP:20260423T224144Z
DESCRIPTION:Stadiumi 'Shahin Haxhiislami' - Pejë
DTSTART:20140920T163000
DTEND:20140920T181500
LOCATION:PejÃ«\,
SUMMARY:Raiffeisen Superliga Kosove 2015-16 :BESA - LIRIA
END:VEVENT
BEGIN:VEVENT
UID:20260423T004144CEST-7839GvE0Vf@146.185.150.6
DTSTAMP:20260423T224144Z
DESCRIPTION:Stadiumi 'Shahin Haxhiislami' - Pejë
DTSTART:20140927T160000
DTEND:20140927T174500
LOCATION:PejÃ«\,
SUMMARY:Raiffeisen Superliga Kosove 2015-16 :LIRIA - KOSOVA(V)
END:VEVENT
BEGIN:VEVENT
UID:20260423T004144CEST-7842pIVI4T@146.185.150.6
DTSTAMP:20260423T224144Z
DESCRIPTION:Stadiumi 'Riza Lushta' - Mitrovicë
DTSTART:20151001T150000
DTEND:20151001T164500
LOCATION:\,  Mitrovica
SUMMARY:Raiffeisen Superliga Kosove 2015-16 :TREPCA 89 - LIRIA
END:VEVENT
BEGIN:VEVENT
UID:20260423T004144CEST-786194HVxu@146.185.150.6
DTSTAMP:20260423T224144Z
DESCRIPTION:Stadiumi 'Riza Lushta' - Mitrovicë
DTSTART:20151004T150000
DTEND:20151004T164500
LOCATION:\,  Mitrovica
SUMMARY:Raiffeisen Superliga Kosove 2015-16 :LIRIA - PRISHTINA
END:VEVENT
BEGIN:VEVENT
UID:20260423T004144CEST-7865xNN3zu@146.185.150.6
DTSTAMP:20260423T224144Z
DESCRIPTION:Stadiumi i Qytetit - Gjilan
DTSTART:20151018T160000
DTEND:20151018T174500
LOCATION: \,
SUMMARY:Raiffeisen Superliga Kosove 2015-16 :DRITA - LIRIA
END:VEVENT
BEGIN:VEVENT
UID:20260423T004144CEST-7869D2inF3@146.185.150.6
DTSTAMP:20260423T224144Z
DESCRIPTION:Stadiumi i Qytetit - Gjilan
DTSTART:20151025T143000
DTEND:20151025T161500
LOCATION: \,
SUMMARY:Raiffeisen Superliga Kosove 2015-16 :LIRIA - HAJVALIA
END:VEVENT
BEGIN:VEVENT
UID:20260423T004144CEST-7872amb06B@146.185.150.6
DTSTAMP:20260423T224144Z
DESCRIPTION:Stadiumi 'Bajram Aliu' - Skënderaj
DTSTART:20151031T140000
DTEND:20151031T154500
LOCATION:SkÃ«nderaj\,
SUMMARY:Raiffeisen Superliga Kosove 2015-16 :DRENICA - LIRIA
END:VEVENT
BEGIN:VEVENT
UID:20260423T004144CEST-7875OxZphT@146.185.150.6
DTSTAMP:20260423T224144Z
DESCRIPTION:Stadiumi 'Bajram Aliu' - Skënderaj
DTSTART:20151104T140000
DTEND:20151104T154500
LOCATION:SkÃ«nderaj\,
SUMMARY:Raiffeisen Superliga Kosove 2015-16 :LIRIA - GJILAN
END:VEVENT
BEGIN:VEVENT
UID:20260423T004144CEST-7878deSVgK@146.185.150.6
DTSTAMP:20260423T224144Z
DESCRIPTION:Stadiumi 'Bajram Aliu' - Skënderaj
DTSTART:20151109T140000
DTEND:20151109T154500
LOCATION:SkÃ«nderaj\,
SUMMARY:Raiffeisen Superliga Kosove 2015-16 :FERONIKELI - LIRIA
END:VEVENT
BEGIN:VEVENT
UID:20260423T004144CEST-7881ps27I4@146.185.150.6
DTSTAMP:20260423T224144Z
DESCRIPTION:Stadiumi 'Bajram Aliu' - Skënderaj
DTSTART:20151118T140000
DTEND:20151118T154500
LOCATION:SkÃ«nderaj\,
SUMMARY:Raiffeisen Superliga Kosove 2015-16 :LIRIA - KF ISTOGU
END:VEVENT
BEGIN:VEVENT
UID:20260423T004144CEST-7886uDBcVV@146.185.150.6
DTSTAMP:20260423T224144Z
DESCRIPTION:Stadiumi 'Bajram Aliu' - Skënderaj
DTSTART:20151122T140000
DTEND:20151122T154500
LOCATION:SkÃ«nderaj\,
SUMMARY:Raiffeisen Superliga Kosove 2015-16 :KF LLAPI - LIRIA
END:VEVENT
BEGIN:VEVENT
UID:20260423T004144CEST-7889be74Dg@146.185.150.6
DTSTAMP:20260423T224144Z
DESCRIPTION:Stadiumi 'Bajram Aliu' - Skënderaj
DTSTART:20151129T140000
DTEND:20151129T154500
LOCATION:SkÃ«nderaj\,
SUMMARY:Raiffeisen Superliga Kosove 2015-16 :LIRIA - BESA
END:VEVENT
BEGIN:VEVENT
UID:20260423T004144CEST-78926bVX8G@146.185.150.6
DTSTAMP:20260423T224144Z
DESCRIPTION:Stadiumi 'Ferki Aliu' - Vushtri
DTSTART:20160228T143000
DTEND:20160228T161500
LOCATION:Vushtrri\,
SUMMARY:Raiffeisen Superliga Kosove 2015-16 :KOSOVA(V) - LIRIA
END:VEVENT
BEGIN:VEVENT
UID:20260423T004144CEST-7896ZwpvCF@146.185.150.6
DTSTAMP:20260423T224144Z
DESCRIPTION:Stadiumi 'Ferki Aliu' - Vushtri
DTSTART:20160306T143000
DTEND:20160306T161500
LOCATION:Vushtrri\,
SUMMARY:Raiffeisen Superliga Kosove 2015-16 :LIRIA - TREPCA 89
END:VEVENT
BEGIN:VEVENT
UID:20260423T004144CEST-7901BSA8Nc@146.185.150.6
DTSTAMP:20260423T224144Z
DESCRIPTION:Stadiumi 'Ferki Aliu' - Vushtri
DTSTART:20160312T143000
DTEND:20160312T161500
LOCATION:Vushtrri\,
SUMMARY:Raiffeisen Superliga Kosove 2015-16 :PRISHTINA - LIRIA
END:VEVENT
BEGIN:VEVENT
UID:20260423T004144CEST-7905vaPxEG@146.185.150.6
DTSTAMP:20260423T224144Z
DESCRIPTION:Stadiumi 'Ferki Aliu' - Vushtri
DTSTART:20160320T143000
DTEND:20160320T161500
LOCATION:Vushtrri\,
SUMMARY:Raiffeisen Superliga Kosove 2015-16 :LIRIA - DRITA
END:VEVENT
BEGIN:VEVENT
UID:20260423T004144CEST-7910eLHuuw@146.185.150.6
DTSTAMP:20260423T224144Z
DESCRIPTION:Stadiumi i Qytetit - Kishnicë
DTSTART:20160326T143000
DTEND:20160326T161500
LOCATION:\,  Kishnica
SUMMARY:Raiffeisen Superliga Kosove 2015-16 :HAJVALIA - LIRIA
END:VEVENT
BEGIN:VEVENT
UID:20260423T004144CEST-7915UnpTG9@146.185.150.6
DTSTAMP:20260423T224144Z
DESCRIPTION:Stadiumi i Qytetit - Kishnicë
DTSTART:20160402T143000
DTEND:20160402T161500
LOCATION:\,  Kishnica
SUMMARY:Raiffeisen Superliga Kosove 2015-16 :FERONIKELI - LIRIA
END:VEVENT
BEGIN:VEVENT
UID:20260423T004144CEST-7918REUo0p@146.185.150.6
DTSTAMP:20260423T224144Z
DESCRIPTION:Stadiumi i Qytetit - Kishnicë
DTSTART:20160406T150000
DTEND:20160406T164500
LOCATION:\,  Kishnica
SUMMARY:Raiffeisen Superliga Kosove 2015-16 :LIRIA - HAJVALIA
END:VEVENT
BEGIN:VEVENT
UID:20260423T004144CEST-7921sTXSdA@146.185.150.6
DTSTAMP:20260423T224144Z
DESCRIPTION:Stadiumi 'Bajram Aliu' - Skënderaj
DTSTART:20160409T150000
DTEND:20160409T164500
LOCATION:SkÃ«nderaj\,
SUMMARY:Raiffeisen Superliga Kosove 2015-16 :DRENICA - LIRIA
END:VEVENT
BEGIN:VEVENT
UID:20260423T004144CEST-7923I469rj@146.185.150.6
DTSTAMP:20260423T224144Z
DESCRIPTION:Stadiumi i Qytetit - Gjilan
DTSTART:20160417T160000
DTEND:20160417T174500
LOCATION: \,
SUMMARY:Raiffeisen Superliga Kosove 2015-16 :DRITA - LIRIA
END:VEVENT
BEGIN:VEVENT
UID:20260423T004144CEST-7926Vaha1c@146.185.150.6
DTSTAMP:20260423T224144Z
DESCRIPTION:Stadiumi i Qytetit - Gjilan
DTSTART:20160424T160000
DTEND:20160424T174500
LOCATION: \,
SUMMARY:Raiffeisen Superliga Kosove 2015-16 :LIRIA - PRISHTINA
END:VEVENT
BEGIN:VEVENT
UID:20260423T004144CEST-7964beJ1vp@146.185.150.6
DTSTAMP:20260423T224144Z
DESCRIPTION:Stadiumi 'Ferki Aliu' - Vushtri
DTSTART:20160501T160000
DTEND:20160501T174500
LOCATION:Vushtrri\,
SUMMARY:Raiffeisen Superliga Kosove 2015-16 :KOSOVA(V) - LIRIA
END:VEVENT
BEGIN:VEVENT
UID:20260423T004144CEST-7969lzeIrh@146.185.150.6
DTSTAMP:20260423T224144Z
DESCRIPTION:Stadiumi 'Ferki Aliu' - Vushtri
DTSTART:20160504T160000
DTEND:20160504T174500
LOCATION:Vushtrri\,
SUMMARY:Raiffeisen Superliga Kosove 2015-16 :LIRIA - KF ISTOGU
END:VEVENT
BEGIN:VEVENT
UID:20260423T004144CEST-7974FtDE97@146.185.150.6
DTSTAMP:20260423T224144Z
DESCRIPTION:Stadiumi 'Riza Lushta' - Mitrovicë
DTSTART:20160508T160000
DTEND:20160508T174500
LOCATION:\,  Mitrovica
SUMMARY:Raiffeisen Superliga Kosove 2015-16 :TREPCA 89 - LIRIA
END:VEVENT
BEGIN:VEVENT
UID:20260423T004144CEST-7977wV54f2@146.185.150.6
DTSTAMP:20260423T224144Z
DESCRIPTION:Stadiumi 'Riza Lushta' - Mitrovicë
DTSTART:20160511T163000
DTEND:20160511T181500
LOCATION:\,  Mitrovica
SUMMARY:Raiffeisen Superliga Kosove 2015-16 :LIRIA - BESA
END:VEVENT
BEGIN:VEVENT
UID:20260423T004144CEST-7981uGzg58@146.185.150.6
DTSTAMP:20260423T224144Z
DESCRIPTION:Stadiumi 'Riza Lushta' - Mitrovicë
DTSTART:20160514T163000
DTEND:20160514T181500
LOCATION:\,  Mitrovica
SUMMARY:Raiffeisen Superliga Kosove 2015-16 :GJILAN - LIRIA
END:VEVENT
END:VCALENDAR
