﻿BEGIN:VCALENDAR
PRODID:-//146.185.150.6//NONSGML iCalcreator 2.6//
VERSION:2.0
BEGIN:VEVENT
UID:20260423T004144CEST-9005LHlDFg@146.185.150.6
DTSTAMP:20260423T224144Z
DESCRIPTION:Stadiumi i Qytetit - Gjilan
DTSTART:20150823T163000
DTEND:20150823T181500
LOCATION: \,
SUMMARY:Raiffeisen Superliga Kosove 2015-16 :DRITA - GJILAN
END:VEVENT
BEGIN:VEVENT
UID:20260423T004144CEST-90089juS5K@146.185.150.6
DTSTAMP:20260423T224144Z
DESCRIPTION:Stadiumi i Qytetit - Gjilan
DTSTART:20150830T163000
DTEND:20150830T181500
LOCATION: \,
SUMMARY:Raiffeisen Superliga Kosove 2015-16 :GJILAN - LIRIA
END:VEVENT
BEGIN:VEVENT
UID:20260423T004144CEST-9011nkw14B@146.185.150.6
DTSTAMP:20260423T224144Z
DESCRIPTION:Stadiumi 'Bajram Aliu' - Skënderaj
DTSTART:20150904T163000
DTEND:20150904T181500
LOCATION:SkÃ«nderaj\,
SUMMARY:Raiffeisen Superliga Kosove 2015-16 :DRENICA - GJILAN
END:VEVENT
BEGIN:VEVENT
UID:20260423T004144CEST-9013NwtTKW@146.185.150.6
DTSTAMP:20260423T224144Z
DESCRIPTION:Stadiumi i Qytetit - Kishnicë
DTSTART:20150911T163000
DTEND:20150911T181500
LOCATION:\,  Kishnica
SUMMARY:Raiffeisen Superliga Kosove 2015-16 :HAJVALIA - GJILAN
END:VEVENT
BEGIN:VEVENT
UID:20260423T004144CEST-9016KddUzJ@146.185.150.6
DTSTAMP:20260423T224144Z
DESCRIPTION:Stadiumi i Qytetit - Kishnicë
DTSTART:20150915T163000
DTEND:20150915T181500
LOCATION:\,  Kishnica
SUMMARY:Raiffeisen Superliga Kosove 2015-16 :GJILAN - FERONIKELI
END:VEVENT
BEGIN:VEVENT
UID:20260423T004144CEST-90181vKToe@146.185.150.6
DTSTAMP:20260423T224144Z
DESCRIPTION:Stadiumi i Qytetit - Kishnicë
DTSTART:20140919T163000
DTEND:20140919T181500
LOCATION:\,  Kishnica
SUMMARY:Raiffeisen Superliga Kosove 2015-16 :KF ISTOGU - GJILAN
END:VEVENT
BEGIN:VEVENT
UID:20260423T004144CEST-902058bgvs@146.185.150.6
DTSTAMP:20260423T224144Z
DESCRIPTION:Stadiumi i Qytetit - Kishnicë
DTSTART:20140925T163000
DTEND:20140925T181500
LOCATION:\,  Kishnica
SUMMARY:Raiffeisen Superliga Kosove 2015-16 :GJILAN - KF LLAPI
END:VEVENT
BEGIN:VEVENT
UID:20260423T004144CEST-9023PlNX1V@146.185.150.6
DTSTAMP:20260423T224144Z
DESCRIPTION:Stadiumi 'Shahin Haxhiislami' - Pejë
DTSTART:20150930T150000
DTEND:20150930T164500
LOCATION:PejÃ«\,
SUMMARY:Raiffeisen Superliga Kosove 2015-16 :BESA - GJILAN
END:VEVENT
BEGIN:VEVENT
UID:20260423T004144CEST-9025Ufc9Ea@146.185.150.6
DTSTAMP:20260423T224144Z
DESCRIPTION:Stadiumi 'Shahin Haxhiislami' - Pejë
DTSTART:20151004T150000
DTEND:20151004T164500
LOCATION:PejÃ«\,
SUMMARY:Raiffeisen Superliga Kosove 2015-16 :GJILAN - KOSOVA(V)
END:VEVENT
BEGIN:VEVENT
UID:20260423T004144CEST-9027CkPrxW@146.185.150.6
DTSTAMP:20260423T224144Z
DESCRIPTION:Stadiumi 'Riza Lushta' - Mitrovicë
DTSTART:20151018T150000
DTEND:20151018T164500
LOCATION:\,  Mitrovica
SUMMARY:Raiffeisen Superliga Kosove 2015-16 :TREPCA 89 - GJILAN
END:VEVENT
BEGIN:VEVENT
UID:20260423T004144CEST-90294sMefN@146.185.150.6
DTSTAMP:20260423T224144Z
DESCRIPTION:Stadiumi 'Riza Lushta' - Mitrovicë
DTSTART:20151025T150000
DTEND:20151025T164500
LOCATION:\,  Mitrovica
SUMMARY:Raiffeisen Superliga Kosove 2015-16 :GJILAN - PRISHTINA
END:VEVENT
BEGIN:VEVENT
UID:20260423T004144CEST-9032hgBJ4u@146.185.150.6
DTSTAMP:20260423T224144Z
DESCRIPTION:Stadiumi 'Riza Lushta' - Mitrovicë
DTSTART:20151101T140000
DTEND:20151101T154500
LOCATION:\,  Mitrovica
SUMMARY:Raiffeisen Superliga Kosove 2015-16 :GJILAN - DRITA
END:VEVENT
BEGIN:VEVENT
UID:20260423T004144CEST-90342hML7U@146.185.150.6
DTSTAMP:20260423T224144Z
DESCRIPTION:Stadiumi 'Riza Lushta' - Mitrovicë
DTSTART:20151104T140000
DTEND:20151104T154500
LOCATION:\,  Mitrovica
SUMMARY:Raiffeisen Superliga Kosove 2015-16 :LIRIA - GJILAN
END:VEVENT
BEGIN:VEVENT
UID:20260423T004144CEST-9037w6x8VB@146.185.150.6
DTSTAMP:20260423T224144Z
DESCRIPTION:Stadiumi 'Riza Lushta' - Mitrovicë
DTSTART:20151107T140000
DTEND:20151107T154500
LOCATION:\,  Mitrovica
SUMMARY:Raiffeisen Superliga Kosove 2015-16 :GJILAN - DRENICA
END:VEVENT
BEGIN:VEVENT
UID:20260423T004144CEST-9039RUbU9R@146.185.150.6
DTSTAMP:20260423T224144Z
DESCRIPTION:Stadiumi 'Riza Lushta' - Mitrovicë
DTSTART:20151117T140000
DTEND:20151117T154500
LOCATION:\,  Mitrovica
SUMMARY:Raiffeisen Superliga Kosove 2015-16 :GJILAN - HAJVALIA
END:VEVENT
BEGIN:VEVENT
UID:20260423T004144CEST-90427j5zGM@146.185.150.6
DTSTAMP:20260423T224144Z
DESCRIPTION:Stadiumi 'Riza Lushta' - Mitrovicë
DTSTART:20151121T140000
DTEND:20151121T154500
LOCATION:\,  Mitrovica
SUMMARY:Raiffeisen Superliga Kosove 2015-16 :FERONIKELI - GJILAN
END:VEVENT
BEGIN:VEVENT
UID:20260423T004144CEST-90440cAnGp@146.185.150.6
DTSTAMP:20260423T224144Z
DESCRIPTION:Stadiumi 'Riza Lushta' - Mitrovicë
DTSTART:20151129T140000
DTEND:20151129T154500
LOCATION:\,  Mitrovica
SUMMARY:Raiffeisen Superliga Kosove 2015-16 :GJILAN - KF ISTOGU
END:VEVENT
BEGIN:VEVENT
UID:20260423T004144CEST-9047MdouxS@146.185.150.6
DTSTAMP:20260423T224144Z
DESCRIPTION:Stadiumi 'Riza Lushta' - Mitrovicë
DTSTART:20160228T143000
DTEND:20160228T161500
LOCATION:\,  Mitrovica
SUMMARY:Raiffeisen Superliga Kosove 2015-16 :KF LLAPI - GJILAN
END:VEVENT
BEGIN:VEVENT
UID:20260423T004144CEST-9049vOmexK@146.185.150.6
DTSTAMP:20260423T224144Z
DESCRIPTION:Stadiumi 'Riza Lushta' - Mitrovicë
DTSTART:20160306T143000
DTEND:20160306T161500
LOCATION:\,  Mitrovica
SUMMARY:Raiffeisen Superliga Kosove 2015-16 :GJILAN - BESA
END:VEVENT
BEGIN:VEVENT
UID:20260423T004144CEST-9052sJC3dA@146.185.150.6
DTSTAMP:20260423T224144Z
DESCRIPTION:Stadiumi 'Ferki Aliu' - Vushtri
DTSTART:20160311T143000
DTEND:20160311T161500
LOCATION:Vushtrri\,
SUMMARY:Raiffeisen Superliga Kosove 2015-16 :KOSOVA(V) - GJILAN
END:VEVENT
BEGIN:VEVENT
UID:20260423T004144CEST-9054XB2ALM@146.185.150.6
DTSTAMP:20260423T224144Z
DESCRIPTION:Stadiumi 'Ferki Aliu' - Vushtri
DTSTART:20160320T143000
DTEND:20160320T161500
LOCATION:Vushtrri\,
SUMMARY:Raiffeisen Superliga Kosove 2015-16 :GJILAN - TREPCA 89
END:VEVENT
BEGIN:VEVENT
UID:20260423T004144CEST-9056cDECev@146.185.150.6
DTSTAMP:20260423T224144Z
DESCRIPTION:Stadiumi 'Ferki Aliu' - Vushtri
DTSTART:20160327T150000
DTEND:20160327T164500
LOCATION:Vushtrri\,
SUMMARY:Raiffeisen Superliga Kosove 2015-16 :PRISHTINA - GJILAN
END:VEVENT
BEGIN:VEVENT
UID:20260423T004144CEST-9058dst70I@146.185.150.6
DTSTAMP:20260423T224144Z
DESCRIPTION:Stadiumi 'Ferki Aliu' - Vushtri
DTSTART:20160403T143000
DTEND:20160403T161500
LOCATION:Vushtrri\,
SUMMARY:Raiffeisen Superliga Kosove 2015-16 :GJILAN - PRISHTINA
END:VEVENT
BEGIN:VEVENT
UID:20260423T004144CEST-9061Prcpp0@146.185.150.6
DTSTAMP:20260423T224144Z
DESCRIPTION:Stadiumi 'Ferki Aliu' - Vushtri
DTSTART:20160407T150000
DTEND:20160407T164500
LOCATION:Vushtrri\,
SUMMARY:Raiffeisen Superliga Kosove 2015-16 :KOSOVA(V) - GJILAN
END:VEVENT
BEGIN:VEVENT
UID:20260423T004144CEST-9063OkXIwr@146.185.150.6
DTSTAMP:20260423T224144Z
DESCRIPTION:Stadiumi 'Ferki Aliu' - Vushtri
DTSTART:20160410T150000
DTEND:20160410T164500
LOCATION:Vushtrri\,
SUMMARY:Raiffeisen Superliga Kosove 2015-16 :GJILAN - KF ISTOGU
END:VEVENT
BEGIN:VEVENT
UID:20260423T004144CEST-9066hHm6Ts@146.185.150.6
DTSTAMP:20260423T224144Z
DESCRIPTION:Stadiumi 'Riza Lushta' - Mitrovicë
DTSTART:20160415T160000
DTEND:20160415T174500
LOCATION:\,  Mitrovica
SUMMARY:Raiffeisen Superliga Kosove 2015-16 :TREPCA 89 - GJILAN
END:VEVENT
BEGIN:VEVENT
UID:20260423T004144CEST-9068EuNnJP@146.185.150.6
DTSTAMP:20260423T224144Z
DESCRIPTION:Stadiumi 'Riza Lushta' - Mitrovicë
DTSTART:20160424T160000
DTEND:20160424T174500
LOCATION:\,  Mitrovica
SUMMARY:Raiffeisen Superliga Kosove 2015-16 :GJILAN - BESA
END:VEVENT
BEGIN:VEVENT
UID:20260423T004144CEST-9070I09SBp@146.185.150.6
DTSTAMP:20260423T224144Z
DESCRIPTION:Stadiumi 'Riza Lushta' - Mitrovicë
DTSTART:20160501T160000
DTEND:20160501T174500
LOCATION:\,  Mitrovica
SUMMARY:Raiffeisen Superliga Kosove 2015-16 :GJILAN - DRENICA
END:VEVENT
BEGIN:VEVENT
UID:20260423T004144CEST-9073jcvvhb@146.185.150.6
DTSTAMP:20260423T224144Z
DESCRIPTION:Stadiumi 'Riza Lushta' - Mitrovicë
DTSTART:20160505T160000
DTEND:20160505T174500
LOCATION:\,  Mitrovica
SUMMARY:Raiffeisen Superliga Kosove 2015-16 :KF LLAPI - GJILAN
END:VEVENT
BEGIN:VEVENT
UID:20260423T004144CEST-9075b5UGEx@146.185.150.6
DTSTAMP:20260423T224144Z
DESCRIPTION:Stadiumi 'Riza Lushta' - Mitrovicë
DTSTART:20160508T160000
DTEND:20160508T174500
LOCATION:\,  Mitrovica
SUMMARY:Raiffeisen Superliga Kosove 2015-16 :GJILAN - FERONIKELI
END:VEVENT
BEGIN:VEVENT
UID:20260423T004144CEST-9077VIJE1n@146.185.150.6
DTSTAMP:20260423T224144Z
DESCRIPTION:Stadiumi i Qytetit - Kishnicë
DTSTART:20160511T163000
DTEND:20160511T181500
LOCATION:\,  Kishnica
SUMMARY:Raiffeisen Superliga Kosove 2015-16 :HAJVALIA - GJILAN
END:VEVENT
BEGIN:VEVENT
UID:20260423T004144CEST-9080jJjM5x@146.185.150.6
DTSTAMP:20260423T224144Z
DESCRIPTION:Stadiumi i Qytetit - Kishnicë
DTSTART:20160514T163000
DTEND:20160514T181500
LOCATION:\,  Kishnica
SUMMARY:Raiffeisen Superliga Kosove 2015-16 :GJILAN - LIRIA
END:VEVENT
END:VCALENDAR
