﻿BEGIN:VCALENDAR
PRODID:-//146.185.150.6//NONSGML iCalcreator 2.6//
VERSION:2.0
BEGIN:VEVENT
UID:20260422T230003CEST-6597gMo1vo@146.185.150.6
DTSTAMP:20260422T210003Z
DESCRIPTION:
DTSTART:20150822T163000
DTEND:20150822T181500
LOCATION:
SUMMARY:Raiffeisen Superliga Kosove 2015-16 :PRISHTINA - FERONIKELI
END:VEVENT
BEGIN:VEVENT
UID:20260422T230003CEST-6600eiHcOZ@146.185.150.6
DTSTAMP:20260422T210003Z
DESCRIPTION:
DTSTART:20150828T163000
DTEND:20150828T181500
LOCATION:
SUMMARY:Raiffeisen Superliga Kosove 2015-16 :FERONIKELI - DRITA
END:VEVENT
BEGIN:VEVENT
UID:20260422T230003CEST-6602Ium5Z8@146.185.150.6
DTSTAMP:20260422T210003Z
DESCRIPTION:
DTSTART:20150905T163000
DTEND:20150905T181500
LOCATION:
SUMMARY:Raiffeisen Superliga Kosove 2015-16 :LIRIA - FERONIKELI
END:VEVENT
BEGIN:VEVENT
UID:20260422T230003CEST-6605dRDsn8@146.185.150.6
DTSTAMP:20260422T210003Z
DESCRIPTION:
DTSTART:20150912T163000
DTEND:20150912T181500
LOCATION:
SUMMARY:Raiffeisen Superliga Kosove 2015-16 :FERONIKELI - DRENICA
END:VEVENT
BEGIN:VEVENT
UID:20260422T230003CEST-66076TvcnZ@146.185.150.6
DTSTAMP:20260422T210003Z
DESCRIPTION:
DTSTART:20150915T163000
DTEND:20150915T181500
LOCATION:
SUMMARY:Raiffeisen Superliga Kosove 2015-16 :GJILAN - FERONIKELI
END:VEVENT
BEGIN:VEVENT
UID:20260422T230003CEST-66100oVdiO@146.185.150.6
DTSTAMP:20260422T210003Z
DESCRIPTION:Stadiumi i Qytetit - Kishnicë
DTSTART:20140921T163000
DTEND:20140921T181500
LOCATION:\,  Kishnica
SUMMARY:Raiffeisen Superliga Kosove 2015-16 :HAJVALIA - FERONIKELI
END:VEVENT
BEGIN:VEVENT
UID:20260422T230003CEST-6612vvTJ8G@146.185.150.6
DTSTAMP:20260422T210003Z
DESCRIPTION:Stadiumi i Qytetit - Kishnicë
DTSTART:20140926T150000
DTEND:20140926T164500
LOCATION:\,  Kishnica
SUMMARY:Raiffeisen Superliga Kosove 2015-16 :FERONIKELI - KF ISTOGU
END:VEVENT
BEGIN:VEVENT
UID:20260422T230003CEST-6615uWUuTr@146.185.150.6
DTSTAMP:20260422T210003Z
DESCRIPTION:Stadiumi i Qytetit - Kishnicë
DTSTART:20150930T150000
DTEND:20150930T164500
LOCATION:\,  Kishnica
SUMMARY:Raiffeisen Superliga Kosove 2015-16 :KF LLAPI - FERONIKELI
END:VEVENT
BEGIN:VEVENT
UID:20260422T230003CEST-6617UwV7hh@146.185.150.6
DTSTAMP:20260422T210003Z
DESCRIPTION:Stadiumi i Qytetit - Kishnicë
DTSTART:20151005T150000
DTEND:20151005T164500
LOCATION:\,  Kishnica
SUMMARY:Raiffeisen Superliga Kosove 2015-16 :FERONIKELI - BESA
END:VEVENT
BEGIN:VEVENT
UID:20260422T230003CEST-6620aUUHvU@146.185.150.6
DTSTAMP:20260422T210003Z
DESCRIPTION:Stadiumi 'Ferki Aliu' - Vushtri
DTSTART:20151017T150000
DTEND:20151017T164500
LOCATION:Vushtrri\,
SUMMARY:Raiffeisen Superliga Kosove 2015-16 :KOSOVA(V) - FERONIKELI
END:VEVENT
BEGIN:VEVENT
UID:20260422T230003CEST-6622B3ZgUP@146.185.150.6
DTSTAMP:20260422T210003Z
DESCRIPTION:Stadiumi 'Ferki Aliu' - Vushtri
DTSTART:20151024T150000
DTEND:20151024T164500
LOCATION:Vushtrri\,
SUMMARY:Raiffeisen Superliga Kosove 2015-16 :FERONIKELI - TREPCA 89
END:VEVENT
BEGIN:VEVENT
UID:20260422T230003CEST-6624GiZwMa@146.185.150.6
DTSTAMP:20260422T210003Z
DESCRIPTION:Stadiumi 'Ferki Aliu' - Vushtri
DTSTART:20151031T140000
DTEND:20151031T154500
LOCATION:Vushtrri\,
SUMMARY:Raiffeisen Superliga Kosove 2015-16 :FERONIKELI - PRISHTINA
END:VEVENT
BEGIN:VEVENT
UID:20260422T230003CEST-6627dgDc9m@146.185.150.6
DTSTAMP:20260422T210003Z
DESCRIPTION:Stadiumi i Qytetit - Gjilan
DTSTART:20151105T140000
DTEND:20151105T154500
LOCATION: \,
SUMMARY:Raiffeisen Superliga Kosove 2015-16 :DRITA - FERONIKELI
END:VEVENT
BEGIN:VEVENT
UID:20260422T230003CEST-6629iIUWZ6@146.185.150.6
DTSTAMP:20260422T210003Z
DESCRIPTION:Stadiumi i Qytetit - Gjilan
DTSTART:20151109T140000
DTEND:20151109T154500
LOCATION: \,
SUMMARY:Raiffeisen Superliga Kosove 2015-16 :FERONIKELI - LIRIA
END:VEVENT
BEGIN:VEVENT
UID:20260422T230003CEST-6631O9epeF@146.185.150.6
DTSTAMP:20260422T210003Z
DESCRIPTION:Stadiumi 'Bajram Aliu' - Skënderaj
DTSTART:20151114T140000
DTEND:20151114T154500
LOCATION:SkÃ«nderaj\,
SUMMARY:Raiffeisen Superliga Kosove 2015-16 :DRENICA - FERONIKELI
END:VEVENT
BEGIN:VEVENT
UID:20260422T230003CEST-6634pSjMz8@146.185.150.6
DTSTAMP:20260422T210003Z
DESCRIPTION:Stadiumi 'Bajram Aliu' - Skënderaj
DTSTART:20151121T140000
DTEND:20151121T154500
LOCATION:SkÃ«nderaj\,
SUMMARY:Raiffeisen Superliga Kosove 2015-16 :FERONIKELI - GJILAN
END:VEVENT
BEGIN:VEVENT
UID:20260422T230003CEST-6636B39gvE@146.185.150.6
DTSTAMP:20260422T210003Z
DESCRIPTION:Stadiumi 'Bajram Aliu' - Skënderaj
DTSTART:20151202T140000
DTEND:20151202T154500
LOCATION:SkÃ«nderaj\,
SUMMARY:Raiffeisen Superliga Kosove 2015-16 :FERONIKELI - HAJVALIA
END:VEVENT
BEGIN:VEVENT
UID:20260422T230003CEST-6639S7X3FH@146.185.150.6
DTSTAMP:20260422T210003Z
DESCRIPTION:Stadiumi 'Bajram Aliu' - Skënderaj
DTSTART:20160227T143000
DTEND:20160227T161500
LOCATION:SkÃ«nderaj\,
SUMMARY:Raiffeisen Superliga Kosove 2015-16 :KF ISTOGU - FERONIKELI
END:VEVENT
BEGIN:VEVENT
UID:20260422T230003CEST-66418HWU8k@146.185.150.6
DTSTAMP:20260422T210003Z
DESCRIPTION:Stadiumi 'Bajram Aliu' - Skënderaj
DTSTART:20160305T143000
DTEND:20160305T161500
LOCATION:SkÃ«nderaj\,
SUMMARY:Raiffeisen Superliga Kosove 2015-16 :FERONIKELI - KF LLAPI
END:VEVENT
BEGIN:VEVENT
UID:20260422T230003CEST-6644haJKwB@146.185.150.6
DTSTAMP:20260422T210003Z
DESCRIPTION:Stadiumi 'Shahin Haxhiislami' - Pejë
DTSTART:20160313T143000
DTEND:20160313T161500
LOCATION:PejÃ«\,
SUMMARY:Raiffeisen Superliga Kosove 2015-16 :BESA - FERONIKELI
END:VEVENT
BEGIN:VEVENT
UID:20260422T230003CEST-6647cZ2LUl@146.185.150.6
DTSTAMP:20260422T210003Z
DESCRIPTION:Stadiumi 'Shahin Haxhiislami' - Pejë
DTSTART:20160319T140000
DTEND:20160319T154500
LOCATION:PejÃ«\,
SUMMARY:Raiffeisen Superliga Kosove 2015-16 :FERONIKELI - KOSOVA(V)
END:VEVENT
BEGIN:VEVENT
UID:20260422T230003CEST-6649akMmwm@146.185.150.6
DTSTAMP:20260422T210003Z
DESCRIPTION:Stadiumi 'Riza Lushta' - Mitrovicë
DTSTART:20160327T150000
DTEND:20160327T164500
LOCATION:\,  Mitrovica
SUMMARY:Raiffeisen Superliga Kosove 2015-16 :TREPCA 89 - FERONIKELI
END:VEVENT
BEGIN:VEVENT
UID:20260422T230003CEST-6651eseD3B@146.185.150.6
DTSTAMP:20260422T210003Z
DESCRIPTION:Stadiumi 'Riza Lushta' - Mitrovicë
DTSTART:20160402T143000
DTEND:20160402T161500
LOCATION:\,  Mitrovica
SUMMARY:Raiffeisen Superliga Kosove 2015-16 :FERONIKELI - LIRIA
END:VEVENT
BEGIN:VEVENT
UID:20260422T230003CEST-665408zO9p@146.185.150.6
DTSTAMP:20260422T210003Z
DESCRIPTION:Stadiumi i Qytetit - Gjilan
DTSTART:20160406T150000
DTEND:20160406T164500
LOCATION: \,
SUMMARY:Raiffeisen Superliga Kosove 2015-16 :DRITA - FERONIKELI
END:VEVENT
BEGIN:VEVENT
UID:20260422T230003CEST-6656l1zfKs@146.185.150.6
DTSTAMP:20260422T210003Z
DESCRIPTION:Stadiumi i Qytetit - Gjilan
DTSTART:20160409T150000
DTEND:20160409T164500
LOCATION: \,
SUMMARY:Raiffeisen Superliga Kosove 2015-16 :FERONIKELI - PRISHTINA
END:VEVENT
BEGIN:VEVENT
UID:20260422T230003CEST-6659nleAI3@146.185.150.6
DTSTAMP:20260422T210003Z
DESCRIPTION:Stadiumi 'Ferki Aliu' - Vushtri
DTSTART:20160417T160000
DTEND:20160417T174500
LOCATION:Vushtrri\,
SUMMARY:Raiffeisen Superliga Kosove 2015-16 :KOSOVA(V) - FERONIKELI
END:VEVENT
BEGIN:VEVENT
UID:20260422T230003CEST-66817xjJGr@146.185.150.6
DTSTAMP:20260422T210003Z
DESCRIPTION:Stadiumi 'Ferki Aliu' - Vushtri
DTSTART:20160423T160000
DTEND:20160423T174500
LOCATION:Vushtrri\,
SUMMARY:Raiffeisen Superliga Kosove 2015-16 :FERONIKELI - KF ISTOGU
END:VEVENT
BEGIN:VEVENT
UID:20260422T230003CEST-6684pviVuD@146.185.150.6
DTSTAMP:20260422T210003Z
DESCRIPTION:Stadiumi 'Riza Lushta' - Mitrovicë
DTSTART:20160501T160000
DTEND:20160501T174500
LOCATION:\,  Mitrovica
SUMMARY:Raiffeisen Superliga Kosove 2015-16 :TREPCA 89 - FERONIKELI
END:VEVENT
BEGIN:VEVENT
UID:20260422T230003CEST-66873NDGkH@146.185.150.6
DTSTAMP:20260422T210003Z
DESCRIPTION:Stadiumi 'Riza Lushta' - Mitrovicë
DTSTART:20160504T160000
DTEND:20160504T174500
LOCATION:\,  Mitrovica
SUMMARY:Raiffeisen Superliga Kosove 2015-16 :FERONIKELI - BESA
END:VEVENT
BEGIN:VEVENT
UID:20260422T230003CEST-6690iuzhZV@146.185.150.6
DTSTAMP:20260422T210003Z
DESCRIPTION:Stadiumi 'Riza Lushta' - Mitrovicë
DTSTART:20160508T160000
DTEND:20160508T174500
LOCATION:\,  Mitrovica
SUMMARY:Raiffeisen Superliga Kosove 2015-16 :GJILAN - FERONIKELI
END:VEVENT
BEGIN:VEVENT
UID:20260422T230003CEST-6692S5lUsl@146.185.150.6
DTSTAMP:20260422T210003Z
DESCRIPTION:Stadiumi 'Riza Lushta' - Mitrovicë
DTSTART:20160511T163000
DTEND:20160511T181500
LOCATION:\,  Mitrovica
SUMMARY:Raiffeisen Superliga Kosove 2015-16 :FERONIKELI - KF LLAPI
END:VEVENT
BEGIN:VEVENT
UID:20260422T230003CEST-6694v9hKJe@146.185.150.6
DTSTAMP:20260422T210003Z
DESCRIPTION:Stadiumi 'Riza Lushta' - Mitrovicë
DTSTART:20160514T163000
DTEND:20160514T181500
LOCATION:\,  Mitrovica
SUMMARY:Raiffeisen Superliga Kosove 2015-16 :FERONIKELI - DRENICA
END:VEVENT
END:VCALENDAR
