﻿BEGIN:VCALENDAR
PRODID:-//146.185.150.6//NONSGML iCalcreator 2.6//
VERSION:2.0
BEGIN:VEVENT
UID:20260422T230005CEST-9578bubBmP@146.185.150.6
DTSTAMP:20260422T210005Z
DESCRIPTION:Stadiumi 'Riza Lushta' - Mitrovicë
DTSTART:20150823T163000
DTEND:20150823T181500
LOCATION:\,  Mitrovica
SUMMARY:Raiffeisen Superliga Kosove 2015-16 :TREPCA 89 - KF ISTOGU
END:VEVENT
BEGIN:VEVENT
UID:20260422T230005CEST-9581wKSl8P@146.185.150.6
DTSTAMP:20260422T210005Z
DESCRIPTION:Stadiumi 'Riza Lushta' - Mitrovicë
DTSTART:20150829T163000
DTEND:20150829T181500
LOCATION:\,  Mitrovica
SUMMARY:Raiffeisen Superliga Kosove 2015-16 :KF LLAPI - TREPCA 89
END:VEVENT
BEGIN:VEVENT
UID:20260422T230005CEST-9584D1XU33@146.185.150.6
DTSTAMP:20260422T210005Z
DESCRIPTION:Stadiumi 'Riza Lushta' - Mitrovicë
DTSTART:20150906T163000
DTEND:20150906T181500
LOCATION:\,  Mitrovica
SUMMARY:Raiffeisen Superliga Kosove 2015-16 :TREPCA 89 - BESA
END:VEVENT
BEGIN:VEVENT
UID:20260422T230005CEST-95866jweHG@146.185.150.6
DTSTAMP:20260422T210005Z
DESCRIPTION:Stadiumi 'Ferki Aliu' - Vushtri
DTSTART:20150913T163000
DTEND:20150913T181500
LOCATION:Vushtrri\,
SUMMARY:Raiffeisen Superliga Kosove 2015-16 :KOSOVA(V) - TREPCA 89
END:VEVENT
BEGIN:VEVENT
UID:20260422T230005CEST-9588z6i1XT@146.185.150.6
DTSTAMP:20260422T210005Z
DESCRIPTION:Stadiumi 'Riza Lushta' - Mitrovicë
DTSTART:20150916T163000
DTEND:20150916T181500
LOCATION:\,  Mitrovica
SUMMARY:Raiffeisen Superliga Kosove 2015-16 :TREPCA 89 - HAJVALIA
END:VEVENT
BEGIN:VEVENT
UID:20260422T230005CEST-9593HKnc1J@146.185.150.6
DTSTAMP:20260422T210005Z
DESCRIPTION:Stadiumi 'Riza Lushta' - Mitrovicë
DTSTART:20140920T163000
DTEND:20140920T181500
LOCATION:\,  Mitrovica
SUMMARY:Raiffeisen Superliga Kosove 2015-16 :TREPCA 89 - PRISHTINA
END:VEVENT
BEGIN:VEVENT
UID:20260422T230005CEST-95957I8MhU@146.185.150.6
DTSTAMP:20260422T210005Z
DESCRIPTION:Stadiumi i Qytetit - Gjilan
DTSTART:20140927T143000
DTEND:20140927T161500
LOCATION: \,
SUMMARY:Raiffeisen Superliga Kosove 2015-16 :DRITA - TREPCA 89
END:VEVENT
BEGIN:VEVENT
UID:20260422T230005CEST-9598IjUPVF@146.185.150.6
DTSTAMP:20260422T210005Z
DESCRIPTION:Stadiumi 'Riza Lushta' - Mitrovicë
DTSTART:20151001T150000
DTEND:20151001T164500
LOCATION:\,  Mitrovica
SUMMARY:Raiffeisen Superliga Kosove 2015-16 :TREPCA 89 - LIRIA
END:VEVENT
BEGIN:VEVENT
UID:20260422T230005CEST-96006gBUvL@146.185.150.6
DTSTAMP:20260422T210005Z
DESCRIPTION:Stadiumi 'Bajram Aliu' - Skënderaj
DTSTART:20151004T150000
DTEND:20151004T164500
LOCATION:SkÃ«nderaj\,
SUMMARY:Raiffeisen Superliga Kosove 2015-16 :DRENICA - TREPCA 89
END:VEVENT
BEGIN:VEVENT
UID:20260422T230005CEST-9603nH6Enl@146.185.150.6
DTSTAMP:20260422T210005Z
DESCRIPTION:Stadiumi 'Riza Lushta' - Mitrovicë
DTSTART:20151018T150000
DTEND:20151018T164500
LOCATION:\,  Mitrovica
SUMMARY:Raiffeisen Superliga Kosove 2015-16 :TREPCA 89 - GJILAN
END:VEVENT
BEGIN:VEVENT
UID:20260422T230005CEST-96064OskvS@146.185.150.6
DTSTAMP:20260422T210005Z
DESCRIPTION:Stadiumi 'Riza Lushta' - Mitrovicë
DTSTART:20151024T150000
DTEND:20151024T164500
LOCATION:\,  Mitrovica
SUMMARY:Raiffeisen Superliga Kosove 2015-16 :FERONIKELI - TREPCA 89
END:VEVENT
BEGIN:VEVENT
UID:20260422T230005CEST-9608W0p02i@146.185.150.6
DTSTAMP:20260422T210005Z
DESCRIPTION:Stadiumi 'Riza Lushta' - Mitrovicë
DTSTART:20151031T140000
DTEND:20151031T154500
LOCATION:\,  Mitrovica
SUMMARY:Raiffeisen Superliga Kosove 2015-16 :KF ISTOGU - TREPCA 89
END:VEVENT
BEGIN:VEVENT
UID:20260422T230005CEST-9610lVHAha@146.185.150.6
DTSTAMP:20260422T210005Z
DESCRIPTION:Stadiumi 'Riza Lushta' - Mitrovicë
DTSTART:20151103T140000
DTEND:20151103T154500
LOCATION:\,  Mitrovica
SUMMARY:Raiffeisen Superliga Kosove 2015-16 :TREPCA 89 - KF LLAPI
END:VEVENT
BEGIN:VEVENT
UID:20260422T230005CEST-9613funGv1@146.185.150.6
DTSTAMP:20260422T210005Z
DESCRIPTION:Stadiumi 'Shahin Haxhiislami' - Pejë
DTSTART:20151108T140000
DTEND:20151108T154500
LOCATION:PejÃ«\,
SUMMARY:Raiffeisen Superliga Kosove 2015-16 :BESA - TREPCA 89
END:VEVENT
BEGIN:VEVENT
UID:20260422T230005CEST-96151MjE6u@146.185.150.6
DTSTAMP:20260422T210005Z
DESCRIPTION:Stadiumi 'Riza Lushta' - Mitrovicë
DTSTART:20151118T140000
DTEND:20151118T154500
LOCATION:\,  Mitrovica
SUMMARY:Raiffeisen Superliga Kosove 2015-16 :TREPCA 89 - KOSOVA(V)
END:VEVENT
BEGIN:VEVENT
UID:20260422T230005CEST-9618aB5z5g@146.185.150.6
DTSTAMP:20260422T210005Z
DESCRIPTION:Stadiumi i Qytetit - Kishnicë
DTSTART:20151125T140000
DTEND:20151125T154500
LOCATION:\,  Kishnica
SUMMARY:Raiffeisen Superliga Kosove 2015-16 :HAJVALIA - TREPCA 89
END:VEVENT
BEGIN:VEVENT
UID:20260422T230005CEST-9620h7IW9i@146.185.150.6
DTSTAMP:20260422T210005Z
DESCRIPTION:Stadiumi i Qytetit - Kishnicë
DTSTART:20151129T140000
DTEND:20151129T154500
LOCATION:\,  Kishnica
SUMMARY:Raiffeisen Superliga Kosove 2015-16 :PRISHTINA - TREPCA 89
END:VEVENT
BEGIN:VEVENT
UID:20260422T230005CEST-9622b5Wo4p@146.185.150.6
DTSTAMP:20260422T210005Z
DESCRIPTION:Stadiumi 'Riza Lushta' - Mitrovicë
DTSTART:20160228T143000
DTEND:20160228T161500
LOCATION:\,  Mitrovica
SUMMARY:Raiffeisen Superliga Kosove 2015-16 :TREPCA 89 - DRITA
END:VEVENT
BEGIN:VEVENT
UID:20260422T230005CEST-9625unW8wt@146.185.150.6
DTSTAMP:20260422T210005Z
DESCRIPTION:Stadiumi 'Riza Lushta' - Mitrovicë
DTSTART:20160306T143000
DTEND:20160306T161500
LOCATION:\,  Mitrovica
SUMMARY:Raiffeisen Superliga Kosove 2015-16 :LIRIA - TREPCA 89
END:VEVENT
BEGIN:VEVENT
UID:20260422T230005CEST-9627cE4f08@146.185.150.6
DTSTAMP:20260422T210005Z
DESCRIPTION:Stadiumi 'Riza Lushta' - Mitrovicë
DTSTART:20160313T143000
DTEND:20160313T161500
LOCATION:\,  Mitrovica
SUMMARY:Raiffeisen Superliga Kosove 2015-16 :TREPCA 89 - DRENICA
END:VEVENT
BEGIN:VEVENT
UID:20260422T230005CEST-9630OrX4uR@146.185.150.6
DTSTAMP:20260422T210005Z
DESCRIPTION:Stadiumi 'Riza Lushta' - Mitrovicë
DTSTART:20160320T143000
DTEND:20160320T161500
LOCATION:\,  Mitrovica
SUMMARY:Raiffeisen Superliga Kosove 2015-16 :GJILAN - TREPCA 89
END:VEVENT
BEGIN:VEVENT
UID:20260422T230005CEST-9633Ohbp8o@146.185.150.6
DTSTAMP:20260422T210005Z
DESCRIPTION:Stadiumi 'Riza Lushta' - Mitrovicë
DTSTART:20160327T150000
DTEND:20160327T164500
LOCATION:\,  Mitrovica
SUMMARY:Raiffeisen Superliga Kosove 2015-16 :TREPCA 89 - FERONIKELI
END:VEVENT
BEGIN:VEVENT
UID:20260422T230005CEST-9636OjWUDl@146.185.150.6
DTSTAMP:20260422T210005Z
DESCRIPTION:Stadiumi 'Riza Lushta' - Mitrovicë
DTSTART:20160403T143000
DTEND:20160403T161500
LOCATION:\,  Mitrovica
SUMMARY:Raiffeisen Superliga Kosove 2015-16 :TREPCA 89 - KF ISTOGU
END:VEVENT
BEGIN:VEVENT
UID:20260422T230005CEST-96384HVmWV@146.185.150.6
DTSTAMP:20260422T210005Z
DESCRIPTION:Stadiumi 'Riza Lushta' - Mitrovicë
DTSTART:20160406T150000
DTEND:20160406T164500
LOCATION:\,  Mitrovica
SUMMARY:Raiffeisen Superliga Kosove 2015-16 :TREPCA 89 - DRENICA
END:VEVENT
BEGIN:VEVENT
UID:20260422T230005CEST-9641dtWTU2@146.185.150.6
DTSTAMP:20260422T210005Z
DESCRIPTION:Stadiumi 'Shahin Haxhiislami' - Pejë
DTSTART:20160410T150000
DTEND:20160410T164500
LOCATION:PejÃ«\,
SUMMARY:Raiffeisen Superliga Kosove 2015-16 :BESA - TREPCA 89
END:VEVENT
BEGIN:VEVENT
UID:20260422T230005CEST-9644AifTlV@146.185.150.6
DTSTAMP:20260422T210005Z
DESCRIPTION:Stadiumi 'Riza Lushta' - Mitrovicë
DTSTART:20160415T160000
DTEND:20160415T174500
LOCATION:\,  Mitrovica
SUMMARY:Raiffeisen Superliga Kosove 2015-16 :TREPCA 89 - GJILAN
END:VEVENT
BEGIN:VEVENT
UID:20260422T230005CEST-9646RlUP77@146.185.150.6
DTSTAMP:20260422T210005Z
DESCRIPTION:Stadiumi 'Riza Lushta' - Mitrovicë
DTSTART:20160422T160000
DTEND:20160422T174500
LOCATION:\,  Mitrovica
SUMMARY:Raiffeisen Superliga Kosove 2015-16 :KF LLAPI - TREPCA 89
END:VEVENT
BEGIN:VEVENT
UID:20260422T230005CEST-9649Le0Zse@146.185.150.6
DTSTAMP:20260422T210005Z
DESCRIPTION:Stadiumi 'Riza Lushta' - Mitrovicë
DTSTART:20160501T160000
DTEND:20160501T174500
LOCATION:\,  Mitrovica
SUMMARY:Raiffeisen Superliga Kosove 2015-16 :TREPCA 89 - FERONIKELI
END:VEVENT
BEGIN:VEVENT
UID:20260422T230005CEST-9651frE8uV@146.185.150.6
DTSTAMP:20260422T210005Z
DESCRIPTION:Stadiumi i Qytetit - Kishnicë
DTSTART:20160504T160000
DTEND:20160504T174500
LOCATION:\,  Kishnica
SUMMARY:Raiffeisen Superliga Kosove 2015-16 :HAJVALIA - TREPCA 89
END:VEVENT
BEGIN:VEVENT
UID:20260422T230005CEST-9654NUI3gk@146.185.150.6
DTSTAMP:20260422T210005Z
DESCRIPTION:Stadiumi 'Riza Lushta' - Mitrovicë
DTSTART:20160508T160000
DTEND:20160508T174500
LOCATION:\,  Mitrovica
SUMMARY:Raiffeisen Superliga Kosove 2015-16 :TREPCA 89 - LIRIA
END:VEVENT
BEGIN:VEVENT
UID:20260422T230005CEST-9656ZfUAvj@146.185.150.6
DTSTAMP:20260422T210005Z
DESCRIPTION:Stadiumi i Qytetit - Gjilan
DTSTART:20160511T163000
DTEND:20160511T181500
LOCATION: \,
SUMMARY:Raiffeisen Superliga Kosove 2015-16 :DRITA - TREPCA 89
END:VEVENT
BEGIN:VEVENT
UID:20260422T230005CEST-9658FVh9RU@146.185.150.6
DTSTAMP:20260422T210005Z
DESCRIPTION:Stadiumi 'Riza Lushta' - Mitrovicë
DTSTART:20160514T163000
DTEND:20160514T181500
LOCATION:\,  Mitrovica
SUMMARY:Raiffeisen Superliga Kosove 2015-16 :TREPCA 89 - PRISHTINA
END:VEVENT
END:VCALENDAR
