﻿BEGIN:VCALENDAR
PRODID:-//146.185.150.6//NONSGML iCalcreator 2.6//
VERSION:2.0
BEGIN:VEVENT
UID:20260423T151945CEST-2686SxBBr6@146.185.150.6
DTSTAMP:20260423T131945Z
DESCRIPTION:
DTSTART:20150916T170000
DTEND:20150916T184500
LOCATION:
SUMMARY:Kupa e Shqiperise 2015-16 :Sopoti - Butrinti
END:VEVENT
BEGIN:VEVENT
UID:20260423T151945CEST-2690u9vDr3@146.185.150.6
DTSTAMP:20260423T131945Z
DESCRIPTION:
DTSTART:20150930T163000
DTEND:20150930T181500
LOCATION:
SUMMARY:Kupa e Shqiperise 2015-16 :Butrinti - Sopoti
END:VEVENT
BEGIN:VEVENT
UID:20260423T151945CEST-2695hUHNAK@146.185.150.6
DTSTAMP:20260423T131945Z
DESCRIPTION:
DTSTART:20151012T150000
DTEND:20151012T164500
LOCATION:
SUMMARY:Kupa e Shqiperise 2015-16 :Sopoti - Skenderbeu
END:VEVENT
BEGIN:VEVENT
UID:20260423T151945CEST-2700cRrDLD@146.185.150.6
DTSTAMP:20260423T131945Z
DESCRIPTION:Stadiumi 'Skënderbeu'
DTSTART:20151115T140000
DTEND:20151115T154500
LOCATION:Korçë\,
SUMMARY:Kupa e Shqiperise 2015-16 :Skenderbeu - Sopoti
END:VEVENT
END:VCALENDAR
