﻿BEGIN:VCALENDAR
PRODID:-//146.185.150.6//NONSGML iCalcreator 2.6//
VERSION:2.0
BEGIN:VEVENT
UID:20260423T151949CEST-5274Pbho9l@146.185.150.6
DTSTAMP:20260423T131949Z
DESCRIPTION:
DTSTART:20150916T170000
DTEND:20150916T184500
LOCATION:
SUMMARY:Kupa e Shqiperise 2015-16 :Ada - Teuta
END:VEVENT
BEGIN:VEVENT
UID:20260423T151949CEST-5280wiITS6@146.185.150.6
DTSTAMP:20260423T131949Z
DESCRIPTION:Stadiumi 'Niko Dovana' - Durrës
DTSTART:20150930T163000
DTEND:20150930T181500
LOCATION:DurrÃ«s\,
SUMMARY:Kupa e Shqiperise 2015-16 :Teuta - Ada
END:VEVENT
END:VCALENDAR
