﻿BEGIN:VCALENDAR
PRODID:-//146.185.150.6//NONSGML iCalcreator 2.6//
VERSION:2.0
BEGIN:VEVENT
UID:20260423T151949CEST-0099CpOMUk@146.185.150.6
DTSTAMP:20260423T131949Z
DESCRIPTION:
DTSTART:20150916T170000
DTEND:20150916T184500
LOCATION:
SUMMARY:Kupa e Shqiperise 2015-16 :Kamza - Elbasani
END:VEVENT
BEGIN:VEVENT
UID:20260423T151949CEST-0102IZTwUN@146.185.150.6
DTSTAMP:20260423T131949Z
DESCRIPTION:Stadiumi 'Ruzhdi Bizhuta' - Elbasan
DTSTART:20150930T163000
DTEND:20150930T181500
LOCATION:Elbasan\,
SUMMARY:Kupa e Shqiperise 2015-16 :Elbasani - Kamza
END:VEVENT
BEGIN:VEVENT
UID:20260423T151949CEST-0105cl2KWI@146.185.150.6
DTSTAMP:20260423T131949Z
DESCRIPTION:Stadiumi 'Ruzhdi Bizhuta' - Elbasan
DTSTART:20151021T153000
DTEND:20151021T171500
LOCATION:Elbasan\,
SUMMARY:Kupa e Shqiperise 2015-16 :Kamza - Teuta
END:VEVENT
BEGIN:VEVENT
UID:20260423T151949CEST-0107rwtpBD@146.185.150.6
DTSTAMP:20260423T131949Z
DESCRIPTION:Stadiumi 'Niko Dovana' - Durrës
DTSTART:20151104T150000
DTEND:20151104T164500
LOCATION:DurrÃ«s\,
SUMMARY:Kupa e Shqiperise 2015-16 :Teuta - Kamza
END:VEVENT
END:VCALENDAR
