﻿BEGIN:VCALENDAR
PRODID:-//146.185.150.6//NONSGML iCalcreator 2.6//
VERSION:2.0
BEGIN:VEVENT
UID:20260423T151945CEST-7279VCnFSU@146.185.150.6
DTSTAMP:20260423T131945Z
DESCRIPTION:
DTSTART:20150916T170000
DTEND:20150916T184500
LOCATION:
SUMMARY:Kupa e Shqiperise 2015-16 :Burreli - Terbuni
END:VEVENT
BEGIN:VEVENT
UID:20260423T151945CEST-7282JtAWcb@146.185.150.6
DTSTAMP:20260423T131945Z
DESCRIPTION:Stadiumi 'Ismail Xhemali' - Pukë
DTSTART:20150930T163000
DTEND:20150930T181500
LOCATION:Pukë\,
SUMMARY:Kupa e Shqiperise 2015-16 :Terbuni - Burreli
END:VEVENT
END:VCALENDAR
