﻿BEGIN:VCALENDAR
PRODID:-//146.185.150.6//NONSGML iCalcreator 2.6//
VERSION:2.0
BEGIN:VEVENT
UID:20260423T151946CEST-09671BaT26@146.185.150.6
DTSTAMP:20260423T131946Z
DESCRIPTION:
DTSTART:20150916T150000
DTEND:20150916T164500
LOCATION:
SUMMARY:Kupa e Shqiperise 2015-16 :Korabi - Partizani
END:VEVENT
BEGIN:VEVENT
UID:20260423T151946CEST-0972ugVvVP@146.185.150.6
DTSTAMP:20260423T131946Z
DESCRIPTION:Stadiumi Kombetar 'Qemal Stafa' - Tirana
DTSTART:20150929T163000
DTEND:20150929T181500
LOCATION:Tiranë\, Shqipëria (Stadiumi Qemal Stafa)\,  Tirana
SUMMARY:Kupa e Shqiperise 2015-16 :Partizani - Korabi
END:VEVENT
BEGIN:VEVENT
UID:20260423T151946CEST-0977phVoaK@146.185.150.6
DTSTAMP:20260423T131946Z
DESCRIPTION:Stadiumi 'Loni Papuçiu' - Fier
DTSTART:20151021T153000
DTEND:20151021T171500
LOCATION:Fier\,
SUMMARY:Kupa e Shqiperise 2015-16 :Lushnja - Partizani
END:VEVENT
BEGIN:VEVENT
UID:20260423T151946CEST-0982Vd7Za1@146.185.150.6
DTSTAMP:20260423T131946Z
DESCRIPTION:Stadiumi Kombetar 'Qemal Stafa' - Tirana
DTSTART:20151104T150000
DTEND:20151104T164500
LOCATION:Tiranë\, Shqipëria (Stadiumi Qemal Stafa)\,  Tirana
SUMMARY:Kupa e Shqiperise 2015-16 :Partizani - Lushnja
END:VEVENT
BEGIN:VEVENT
UID:20260423T151946CEST-09861FN43a@146.185.150.6
DTSTAMP:20260423T131946Z
DESCRIPTION:Fusha Sportive Laç
DTSTART:20160123T150000
DTEND:20160123T164500
LOCATION:Laç\,
SUMMARY:Kupa e Shqiperise 2015-16 :Laci - Partizani
END:VEVENT
BEGIN:VEVENT
UID:20260423T151946CEST-0991RxOz1x@146.185.150.6
DTSTAMP:20260423T131946Z
DESCRIPTION:Stadiumi Kombetar 'Qemal Stafa' - Tirana
DTSTART:20160217T180000
DTEND:20160217T194500
LOCATION:Tiranë\, Shqipëria (Stadiumi Qemal Stafa)\,  Tirana
SUMMARY:Kupa e Shqiperise 2015-16 :Partizani - Laci
END:VEVENT
END:VCALENDAR
